BEGIN:VCALENDAR
VERSION:2.0
PRODID:-//Usui Reiki Ryoho ry - ECPv6.15.20//NONSGML v1.0//EN
CALSCALE:GREGORIAN
METHOD:PUBLISH
X-ORIGINAL-URL:https://usui-reiki-ryoho.fi
X-WR-CALDESC:Tapahtumat Usui Reiki Ryoho ry
REFRESH-INTERVAL;VALUE=DURATION:PT1H
X-Robots-Tag:noindex
X-PUBLISHED-TTL:PT1H
BEGIN:VTIMEZONE
TZID:Europe/Helsinki
BEGIN:DAYLIGHT
TZOFFSETFROM:+0200
TZOFFSETTO:+0300
TZNAME:EEST
DTSTART:20240331T010000
END:DAYLIGHT
BEGIN:STANDARD
TZOFFSETFROM:+0300
TZOFFSETTO:+0200
TZNAME:EET
DTSTART:20241027T010000
END:STANDARD
BEGIN:DAYLIGHT
TZOFFSETFROM:+0200
TZOFFSETTO:+0300
TZNAME:EEST
DTSTART:20250330T010000
END:DAYLIGHT
BEGIN:STANDARD
TZOFFSETFROM:+0300
TZOFFSETTO:+0200
TZNAME:EET
DTSTART:20251026T010000
END:STANDARD
BEGIN:DAYLIGHT
TZOFFSETFROM:+0200
TZOFFSETTO:+0300
TZNAME:EEST
DTSTART:20260329T010000
END:DAYLIGHT
BEGIN:STANDARD
TZOFFSETFROM:+0300
TZOFFSETTO:+0200
TZNAME:EET
DTSTART:20261025T010000
END:STANDARD
END:VTIMEZONE
BEGIN:VEVENT
DTSTART;TZID=Europe/Helsinki:20250208T100000
DTEND;TZID=Europe/Helsinki:20250209T170000
DTSTAMP:20260422T015934
CREATED:20250106T182245Z
LAST-MODIFIED:20250106T182315Z
UID:2098-1739008800-1739120400@usui-reiki-ryoho.fi
SUMMARY:Reiki 1 -kurssi / Eija Laakso
DESCRIPTION:Tietoa kurssin sisällöstä: Reiki 1. \nIlmoittautuminen eija@kiseki.fi tai puh 045 857 3400
URL:https://usui-reiki-ryoho.fi/tapahtuma/reiki-1-eija-helmi-2025/
LOCATION:Tapanilan Terveys\, KehoMielikeskus\, Päivöläntie 31\, Helsinki\, 00730\, Suomi
CATEGORIES:Kurssit,Reiki1
END:VEVENT
BEGIN:VEVENT
DTSTART;TZID=Europe/Helsinki:20250208T150000
DTEND;TZID=Europe/Helsinki:20250209T170000
DTSTAMP:20260422T015934
CREATED:20241120T115416Z
LAST-MODIFIED:20241120T115416Z
UID:2049-1739026800-1739120400@usui-reiki-ryoho.fi
SUMMARY:Reiki 1 -kurssi / Marko Tilles
DESCRIPTION:Kurssin kellonajat: \nlauantai 8.2.2025 kello 15-20 \nsunnuntai 9.2.2025 kello 10-17 \n  \nKurssin sisältö: Reiki-1 \nIlmoittautuminen ja lisätiedot: Markolta\, yhteystiedot alla
URL:https://usui-reiki-ryoho.fi/tapahtuma/reiki-1-marko-helmi-2025/
LOCATION:Kodin tyyli -myymälä\, Naaranpajuntie 1\, Nummela\, 03100\, Suomi
CATEGORIES:Kurssit,Reiki1
ORGANIZER;CN="Marko Tilles":MAILTO:markotilles7@gmail.com
END:VEVENT
BEGIN:VEVENT
DTSTART;TZID=Europe/Helsinki:20250215T090000
DTEND;TZID=Europe/Helsinki:20250216T160000
DTSTAMP:20260422T015934
CREATED:20241106T143451Z
LAST-MODIFIED:20241106T143451Z
UID:2044-1739610000-1739721600@usui-reiki-ryoho.fi
SUMMARY:Reiki 2 -kurssi / Raija Yli-Jyrä
DESCRIPTION:Ilmoittautuminen viimeistään 26.1.2025 Keski-Pohjanmaan kansanopiston kurssisivun kautta. \nKurssin sisällöstä: Reiki-2
URL:https://usui-reiki-ryoho.fi/tapahtuma/reiki-2-raija-helmi-2025/
LOCATION:Keski-Pohjanmaan kansanopisto\, Opistontie 1\, Kälviä\, 68300\, Suomi
CATEGORIES:Kurssit,Reiki2
END:VEVENT
BEGIN:VEVENT
DTSTART;TZID=Europe/Helsinki:20250215T100000
DTEND;TZID=Europe/Helsinki:20250216T170000
DTSTAMP:20260422T015934
CREATED:20241219T124416Z
LAST-MODIFIED:20241219T124416Z
UID:2058-1739613600-1739725200@usui-reiki-ryoho.fi
SUMMARY:Reiki 1 -kurssi / Leena Kuutti-Fager
DESCRIPTION:Ilmoittautuminen leena.kuutti@solania.fi tai 050 517 2729 \nLisätietoa kurssista: https://solania.fi/blogi/
URL:https://usui-reiki-ryoho.fi/tapahtuma/reiki-1-leena-helmi-2025/
LOCATION:Hoitola Solania\, Kultasepänkatu 5 A\, Kerava\, 04250\, Suomi
CATEGORIES:Kurssit,Reiki1
ORGANIZER;CN="Leena Kuutti-Fager":MAILTO:leena.kuutti@solania.fi
END:VEVENT
BEGIN:VEVENT
DTSTART;TZID=Europe/Helsinki:20250215T100000
DTEND;TZID=Europe/Helsinki:20250216T170000
DTSTAMP:20260422T015934
CREATED:20250112T084729Z
LAST-MODIFIED:20250112T084729Z
UID:2117-1739613600-1739725200@usui-reiki-ryoho.fi
SUMMARY:Reiki 1 -kurssi / Anni Siitonen
DESCRIPTION:Lisätietoja kurssin sisällöstä: Reiki-1 \nIlmoittautuminen Annille.
URL:https://usui-reiki-ryoho.fi/tapahtuma/reiki-1-anni-helmi-2025/
LOCATION:PPPilates-tila\, Allotriankuja 6\, Helsinki\, 00580\, Suomi
CATEGORIES:Kurssit,Reiki1
ORGANIZER;CN="Anni Siitonen":MAILTO:anni.siitonen1@gmail.com
END:VEVENT
END:VCALENDAR