BEGIN:VCALENDAR
VERSION:2.0
PRODID:-//Usui Reiki Ryoho ry - ECPv6.15.20//NONSGML v1.0//EN
CALSCALE:GREGORIAN
METHOD:PUBLISH
X-WR-CALNAME:Usui Reiki Ryoho ry
X-ORIGINAL-URL:https://usui-reiki-ryoho.fi
X-WR-CALDESC:Tapahtumat Usui Reiki Ryoho ry
REFRESH-INTERVAL;VALUE=DURATION:PT1H
X-Robots-Tag:noindex
X-PUBLISHED-TTL:PT1H
BEGIN:VTIMEZONE
TZID:Europe/Helsinki
BEGIN:DAYLIGHT
TZOFFSETFROM:+0200
TZOFFSETTO:+0300
TZNAME:EEST
DTSTART:20240331T010000
END:DAYLIGHT
BEGIN:STANDARD
TZOFFSETFROM:+0300
TZOFFSETTO:+0200
TZNAME:EET
DTSTART:20241027T010000
END:STANDARD
BEGIN:DAYLIGHT
TZOFFSETFROM:+0200
TZOFFSETTO:+0300
TZNAME:EEST
DTSTART:20250330T010000
END:DAYLIGHT
BEGIN:STANDARD
TZOFFSETFROM:+0300
TZOFFSETTO:+0200
TZNAME:EET
DTSTART:20251026T010000
END:STANDARD
BEGIN:DAYLIGHT
TZOFFSETFROM:+0200
TZOFFSETTO:+0300
TZNAME:EEST
DTSTART:20260329T010000
END:DAYLIGHT
BEGIN:STANDARD
TZOFFSETFROM:+0300
TZOFFSETTO:+0200
TZNAME:EET
DTSTART:20261025T010000
END:STANDARD
END:VTIMEZONE
BEGIN:VEVENT
DTSTART;TZID=Europe/Helsinki:20250215T090000
DTEND;TZID=Europe/Helsinki:20250216T160000
DTSTAMP:20260421T225150
CREATED:20241106T143451Z
LAST-MODIFIED:20241106T143451Z
UID:2044-1739610000-1739721600@usui-reiki-ryoho.fi
SUMMARY:Reiki 2 -kurssi / Raija Yli-Jyrä
DESCRIPTION:Ilmoittautuminen viimeistään 26.1.2025 Keski-Pohjanmaan kansanopiston kurssisivun kautta. \nKurssin sisällöstä: Reiki-2
URL:https://usui-reiki-ryoho.fi/tapahtuma/reiki-2-raija-helmi-2025/
LOCATION:Keski-Pohjanmaan kansanopisto\, Opistontie 1\, Kälviä\, 68300\, Suomi
CATEGORIES:Kurssit,Reiki2
END:VEVENT
END:VCALENDAR