BEGIN:VCALENDAR
VERSION:2.0
PRODID:-//Usui Reiki Ryoho ry - ECPv6.15.20//NONSGML v1.0//EN
CALSCALE:GREGORIAN
METHOD:PUBLISH
X-ORIGINAL-URL:https://usui-reiki-ryoho.fi
X-WR-CALDESC:Tapahtumat Usui Reiki Ryoho ry
REFRESH-INTERVAL;VALUE=DURATION:PT1H
X-Robots-Tag:noindex
X-PUBLISHED-TTL:PT1H
BEGIN:VTIMEZONE
TZID:Europe/Helsinki
BEGIN:DAYLIGHT
TZOFFSETFROM:+0200
TZOFFSETTO:+0300
TZNAME:EEST
DTSTART:20230326T010000
END:DAYLIGHT
BEGIN:STANDARD
TZOFFSETFROM:+0300
TZOFFSETTO:+0200
TZNAME:EET
DTSTART:20231029T010000
END:STANDARD
BEGIN:DAYLIGHT
TZOFFSETFROM:+0200
TZOFFSETTO:+0300
TZNAME:EEST
DTSTART:20240331T010000
END:DAYLIGHT
BEGIN:STANDARD
TZOFFSETFROM:+0300
TZOFFSETTO:+0200
TZNAME:EET
DTSTART:20241027T010000
END:STANDARD
BEGIN:DAYLIGHT
TZOFFSETFROM:+0200
TZOFFSETTO:+0300
TZNAME:EEST
DTSTART:20250330T010000
END:DAYLIGHT
BEGIN:STANDARD
TZOFFSETFROM:+0300
TZOFFSETTO:+0200
TZNAME:EET
DTSTART:20251026T010000
END:STANDARD
END:VTIMEZONE
BEGIN:VEVENT
DTSTART;TZID=Europe/Helsinki:20240914T100000
DTEND;TZID=Europe/Helsinki:20240915T170000
DTSTAMP:20260422T005011
CREATED:20240703T153752Z
LAST-MODIFIED:20240703T153943Z
UID:1993-1726308000-1726419600@usui-reiki-ryoho.fi
SUMMARY:Reiki 2 -kurssi / Leena Kuutti-Fager
DESCRIPTION:Ilmoittautuminen leena.kuutti@solania.fi tai 050 517 2729 \nLisätietoa kurssista: https://solania.fi/blogi/
URL:https://usui-reiki-ryoho.fi/tapahtuma/reiki-2-leena-syys-2024/
LOCATION:Hoitola Solania\, Kultasepänkatu 5 A\, Kerava\, 04250\, Suomi
CATEGORIES:Kurssit,Reiki2
ORGANIZER;CN="Leena Kuutti-Fager":MAILTO:leena.kuutti@solania.fi
END:VEVENT
BEGIN:VEVENT
DTSTART;TZID=Europe/Helsinki:20240928T100000
DTEND;TZID=Europe/Helsinki:20240929T170000
DTSTAMP:20260422T005011
CREATED:20240612T171135Z
LAST-MODIFIED:20240612T171135Z
UID:1960-1727517600-1727629200@usui-reiki-ryoho.fi
SUMMARY:Reiki 2 -kurssi / Kari Paulus
DESCRIPTION:Ilmoittautuminen Karille puh. 050 341 3852 \nLisätietoja kurssin sisällöstä: Reiki-2
URL:https://usui-reiki-ryoho.fi/tapahtuma/reiki-2-kari-syys-2024/
LOCATION:Sturenkadun hoitola\, Sturenkatu 43\, Helsinki\, 00740\, Suomi
CATEGORIES:Kurssit,Reiki2
END:VEVENT
END:VCALENDAR