BEGIN:VCALENDAR
VERSION:2.0
PRODID:-//Usui Reiki Ryoho ry - ECPv6.15.20//NONSGML v1.0//EN
CALSCALE:GREGORIAN
METHOD:PUBLISH
X-ORIGINAL-URL:https://usui-reiki-ryoho.fi
X-WR-CALDESC:Tapahtumat Usui Reiki Ryoho ry
REFRESH-INTERVAL;VALUE=DURATION:PT1H
X-Robots-Tag:noindex
X-PUBLISHED-TTL:PT1H
BEGIN:VTIMEZONE
TZID:Europe/Helsinki
BEGIN:DAYLIGHT
TZOFFSETFROM:+0200
TZOFFSETTO:+0300
TZNAME:EEST
DTSTART:20240331T010000
END:DAYLIGHT
BEGIN:STANDARD
TZOFFSETFROM:+0300
TZOFFSETTO:+0200
TZNAME:EET
DTSTART:20241027T010000
END:STANDARD
BEGIN:DAYLIGHT
TZOFFSETFROM:+0200
TZOFFSETTO:+0300
TZNAME:EEST
DTSTART:20250330T010000
END:DAYLIGHT
BEGIN:STANDARD
TZOFFSETFROM:+0300
TZOFFSETTO:+0200
TZNAME:EET
DTSTART:20251026T010000
END:STANDARD
BEGIN:DAYLIGHT
TZOFFSETFROM:+0200
TZOFFSETTO:+0300
TZNAME:EEST
DTSTART:20260329T010000
END:DAYLIGHT
BEGIN:STANDARD
TZOFFSETFROM:+0300
TZOFFSETTO:+0200
TZNAME:EET
DTSTART:20261025T010000
END:STANDARD
END:VTIMEZONE
BEGIN:VEVENT
DTSTART;TZID=Europe/Helsinki:20250509T180000
DTEND;TZID=Europe/Helsinki:20250509T210000
DTSTAMP:20260421T213424
CREATED:20241219T150920Z
LAST-MODIFIED:20241219T150920Z
UID:2092-1746813600-1746824400@usui-reiki-ryoho.fi
SUMMARY:Reiki-ilta / Helsinki
DESCRIPTION:Reiki-ilta on kaikille avoin tilaisuus. Se on tarkoitettu hoitojen tekemiseen sekä seurusteluun. Jokainen saa halutessaan reikihoidon ja kaikki ovat tervetulleita osallistumaan myös hoitamiseen. Etukäteen ei tarvitse osata mitään\, avoin mieli riittää. \nKokoontumispaikka on n. 400 m Sörnäisten metroasemalta. \nOviraha 5 e\, tarjolla teetä ja pientä purtavaa. \nVoit tulla ja lähteä oman aikataulusi mukaan. \nKunnioitathan kaikkien terveyttä ja jäät kotiin\, mikäli tunnet olevasi sairas. \n\nEija\, puh. 045 857 3400\n\n\nKaisu\, puh. 040 585 0623\nIrina\, puh. 044 599 2250
URL:https://usui-reiki-ryoho.fi/tapahtuma/reiki-ilta-helsinki-5/
LOCATION:PPPilates-tila\, Allotriankuja 6\, Helsinki\, 00580\, Suomi
CATEGORIES:Reiki-ilta / Reiki-iltapäivä
END:VEVENT
BEGIN:VEVENT
DTSTART;TZID=Europe/Helsinki:20250510T100000
DTEND;TZID=Europe/Helsinki:20250510T163000
DTSTAMP:20260421T213424
CREATED:20241219T143257Z
LAST-MODIFIED:20241219T143811Z
UID:2074-1746871200-1746894600@usui-reiki-ryoho.fi
SUMMARY:Japanilaiset reikitekniikat\, harjoittelupäivä
DESCRIPTION:Jos olet käynyt Japanilaiset reikitekniikat -viikonloppukurssin\, voit tulla tähän päivään harjoittelemaan tekniikoita. \nIlmoittautuminen: Kari Paulus\, tekstiviestillä puh. 050 341 3852 \nLisätietoja Karin omalta nettisivulta \nMaksu käteisellä paikanpäällä
URL:https://usui-reiki-ryoho.fi/tapahtuma/reikitekniikat-harjoittelupaiva-touko-2025/
LOCATION:Sturenkadun hoitola\, Sturenkatu 43\, Helsinki\, 00740\, Suomi
CATEGORIES:Tekniikkapäivä
END:VEVENT
BEGIN:VEVENT
DTSTART;TZID=Europe/Helsinki:20250517T100000
DTEND;TZID=Europe/Helsinki:20250518T170000
DTSTAMP:20260421T213424
CREATED:20241219T142403Z
LAST-MODIFIED:20241219T142403Z
UID:2068-1747476000-1747587600@usui-reiki-ryoho.fi
SUMMARY:Reiki 2 -kurssi / Kari Paulus
DESCRIPTION:Ilmoittautuminen Karille puh. 050 341 3852 \nLisätietoja kurssin sisällöstä: Reiki-2
URL:https://usui-reiki-ryoho.fi/tapahtuma/reiki-2-kari-touko-2025/
LOCATION:Sturenkadun hoitola\, Sturenkatu 43\, Helsinki\, 00740\, Suomi
CATEGORIES:Kurssit,Reiki2
END:VEVENT
BEGIN:VEVENT
DTSTART;TZID=Europe/Helsinki:20250517T110000
DTEND;TZID=Europe/Helsinki:20250517T200000
DTSTAMP:20260421T213424
CREATED:20250324T204908Z
LAST-MODIFIED:20250324T204908Z
UID:2162-1747479600-1747512000@usui-reiki-ryoho.fi
SUMMARY:Henkireikiä -päivä: Itsehypnoosi — avain fobioista\, kivuista ja ikävistä tavoista irti pääsemiseksi
DESCRIPTION:Tervetuloa kevään Henkireikiä-päivään Helsingin Tapanilaan lauantaina 17.5.2025! Tällä kertaa meillä on ilo saada oppaaksi ja kouluttajaksi Anuirmeli Sallamo-Lavi\, Asikkalan Vääksyssä asuva henkimaailman viestien välittäjä\, henkiparantaja ja selvänäkijä. Anuirmeli on freelacetoimittaja\, -suomentaja ja kirjailija ja on suomentanut mm. ’Outlander-Matkantekijä’ – kirjasarjan sekä kirjoittanut esoteerisen trilogian jonka viimeinen osa ’Tiibetiläisen mestarin tiimalasi’ julkaistiin vuonna 2024. Hän uskoo\, että meissä kaikissa on herkkyyttä\, jota voi kehittää. \nTapahtuman aihe on itsehypnoosi — avain fobioista\, kivuista ja ikävistä tavoista irti pääsemiseksi. Näin Anuirmeli kirjoittaa päivän aiheesta: \n”Itsehypnoosi on täsmäase fobioihin\, kipuun ja stressiin. Haluaisitko lopettaa tupakoinnin tai päästä eroon jostain muusta pahasta tavasta\, vaikkapa itsesi vähättelystä? Opi tehokas menetelmä muutamassa tunnissa ja hallitse paremmin niin stressiä kuin kipujakin. Hypnoottinen transsi on kiintoisa muuntuneen tietoisuuden tila\, jota voit hyödyntää useissa elämäntilanteissa. Päivän mittaan saat haltuusi ankkurin\, jonka avulla pääset sukeltamaan nopeasti muuntuneeseen tietoisuudentilaan ja helpottamaan tilannetta\, mikä se sitten onkin\, vaikkapa suljetun paikan kammo. ” \nKaikille yhteisen workshopin jälkeen Anuirmeli tarjoaa puolen tunnin yksityisistuntoja nopeimmille ilmoittautujille. Istunnon hinta on 60 euroa\, joka menee lyhentämättä Anuirmelin valitsemaan hyväntekeväisyyskohteeseen. Näin Anuirmeli kuvailee yksityisistuntojaan: \n”Istunnoissani virittäydyn toisen auraan ja saan sieltä tietoa selväaistien\, pääasiassa selvänäön ja selvätunnon välityksellä. Auran pääväri ja aktiivisin kerros sisältävät informaatiota\, mutta myös auraan tulevien oppaiden mm. sukupuoli sisältää sekin paljon tietoa henkilön senhetkisestä tilanteesta. Tavallaan kerron\, mitä henkilölle kuuluu\, mutta henkimaailman auttajat hoitavat tällä välin päätyön eli henkiparantamisen.  \nPsykologisesti voimme ajatella\, että tietoinen mieli on kuin merenpinta ja piilotajunta kuin valtameri\, ja tehtäväni on ruopata merenpohjaa sen verran että sieltä nousee kuplia tietoisen mielen pintaan. Henkilö saa seuraavien 3-5 vuorokauden kuluttua tärkeitä oivalluksia siitä\, mihin suuntaan hänen on hyvä elämäänsä muuttaa. Voi tulla myös mullistavia unia ja irrationaalisia itkunpuuskia. Istunto käynnistää prosessin\, joka auttaa henkilöä eteenpäin elämässään ja vahvistaa häntä tilanteessaan niin että hän osaa paremmin tehdä tarvittavat muutokset. Jokainen istunto on hyvin erilainen. Ennustamista tämä ei tietenkään ole.” \nKiinnostuitko? Tässä vielä päivän käytännön asiat: \nOsoite: Tapanilan Terveys\, Päivöläntie 31\, Tapanilan torin laidalla. Perille pääsee K- ja I-junilla sekä bussilla 74. Parkkipaikkoja löytyy autoilijoille. \nAjankohta: Aloittelemme klo 11. Itse workshop on kolmituntinen ja kestää 12:sta 15:een. Puolen tunnin yksityisistuntoja tarjolla neljälle nopeimmalle klo 15.30-17.30 sekä vielä klo 18-20\, mikäli kysyntää riittää. \nKenelle: Tilaisuus on avoin sekä yhdistyksen jäsenille että heidän ystävilleen. \nMitä tämä maksaa? Workshopin hinta yhdistyksen jäsenille on 25 euroa ja ystäville 65 euroa. Maksu ilmoittautumisen yhteydessä yhdistyksen tilille  FI81 5723 0220 2108 63 Usui Reiki Ryoho ry ja viestiksi ”Henkireikiä itsehypnoosi”. Yksityisistunnot 60 eur/30 min\, joista maksu käteisellä suoraan Anuirmelille. \nMiten ilmoittaudun: sähköpostilla  usuireikiryoho.finland (ät) gmail.com.\nIlmoitathan myös nimesi ja puhelinnumerosi. Yksityisistuntojen paikat varataan ilmoittautumisjärjestyksessä.
URL:https://usui-reiki-ryoho.fi/tapahtuma/henkireikia-paiva-05-2025/
LOCATION:Tapanilan Terveys\, KehoMielikeskus\, Päivöläntie 31\, Helsinki\, 00730\, Suomi
CATEGORIES:Jäsentilaisuus,Tapahtumat
END:VEVENT
BEGIN:VEVENT
DTSTART;TZID=Europe/Helsinki:20250520T180000
DTEND;TZID=Europe/Helsinki:20250523T210000
DTSTAMP:20260421T213424
CREATED:20250426T162228Z
LAST-MODIFIED:20250426T162228Z
UID:2176-1747764000-1748034000@usui-reiki-ryoho.fi
SUMMARY:Reiki 1 -kurssi\, iltakurssi / Marko Tilles
DESCRIPTION:HUOM! Iltakurssi\, 4 peräkkäistä iltaa 20. – 23.5.2025 kello 18 – 21 \nKurssin sisältö: Reiki-1 \nIlmoittautuminen ja lisätiedot: Markolta\, yhteystiedot alla
URL:https://usui-reiki-ryoho.fi/tapahtuma/reiki-1-ilta-marko-05-2025/
LOCATION:Kodin tyyli -myymälä\, Naaranpajuntie 1\, Nummela\, 03100\, Suomi
CATEGORIES:Kurssit,Reiki1
ORGANIZER;CN="Marko Tilles":MAILTO:markotilles7@gmail.com
END:VEVENT
BEGIN:VEVENT
DTSTART;TZID=Europe/Helsinki:20250524T100000
DTEND;TZID=Europe/Helsinki:20250525T170000
DTSTAMP:20260421T213424
CREATED:20250313T202507Z
LAST-MODIFIED:20250401T183813Z
UID:2150-1748080800-1748192400@usui-reiki-ryoho.fi
SUMMARY:Reiki 1 -kurssi / Kaisu Sutinen
DESCRIPTION:Lisätietoja kurssin sisällöstä: Reiki-1 \nIlmoittautuminen Kaisulle numeroon 040 585 0623.
URL:https://usui-reiki-ryoho.fi/tapahtuma/reiki-1-kurssi-kaisu-sutinen/
LOCATION:PPPilates-tila\, Allotriankuja 6\, Helsinki\, 00580\, Suomi
CATEGORIES:Kurssit,Reiki1
END:VEVENT
BEGIN:VEVENT
DTSTART;TZID=Europe/Helsinki:20250531T100000
DTEND;TZID=Europe/Helsinki:20250601T170000
DTSTAMP:20260421T213424
CREATED:20250112T085243Z
LAST-MODIFIED:20250403T185132Z
UID:2122-1748685600-1748797200@usui-reiki-ryoho.fi
SUMMARY:Reiki 2 -kurssi / Anni Siitonen
DESCRIPTION:Lisätietoja kurssin sisällöstä: Reiki-2 \nIlmoittautuminen Annille\, yhteystiedot alla.
URL:https://usui-reiki-ryoho.fi/tapahtuma/reiki2-anni-touko-2025/
LOCATION:PPPilates-tila\, Allotriankuja 6\, Helsinki\, 00580\, Suomi
CATEGORIES:Kurssit,Reiki2
ORGANIZER;CN="Anni Siitonen":MAILTO:anni.siitonen1@gmail.com
END:VEVENT
BEGIN:VEVENT
DTSTART;TZID=Europe/Helsinki:20250606T180000
DTEND;TZID=Europe/Helsinki:20250606T210000
DTSTAMP:20260421T213424
CREATED:20241219T151015Z
LAST-MODIFIED:20241219T151015Z
UID:2094-1749232800-1749243600@usui-reiki-ryoho.fi
SUMMARY:Reiki-ilta / Helsinki
DESCRIPTION:Reiki-ilta on kaikille avoin tilaisuus. Se on tarkoitettu hoitojen tekemiseen sekä seurusteluun. Jokainen saa halutessaan reikihoidon ja kaikki ovat tervetulleita osallistumaan myös hoitamiseen. Etukäteen ei tarvitse osata mitään\, avoin mieli riittää. \nKokoontumispaikka on n. 400 m Sörnäisten metroasemalta. \nOviraha 5 e\, tarjolla teetä ja pientä purtavaa. \nVoit tulla ja lähteä oman aikataulusi mukaan. \nKunnioitathan kaikkien terveyttä ja jäät kotiin\, mikäli tunnet olevasi sairas. \n\nEija\, puh. 045 857 3400\n\n\nKaisu\, puh. 040 585 0623\nIrina\, puh. 044 599 2250
URL:https://usui-reiki-ryoho.fi/tapahtuma/reiki-ilta-helsinki-6/
LOCATION:PPPilates-tila\, Allotriankuja 6\, Helsinki\, 00580\, Suomi
CATEGORIES:Reiki-ilta / Reiki-iltapäivä
END:VEVENT
BEGIN:VEVENT
DTSTART;TZID=Europe/Helsinki:20250607T100000
DTEND;TZID=Europe/Helsinki:20250608T170000
DTSTAMP:20260421T213424
CREATED:20250219T164535Z
LAST-MODIFIED:20250219T164535Z
UID:2144-1749290400-1749402000@usui-reiki-ryoho.fi
SUMMARY:Reiki 1 -kurssi / Leena Kuutti-Fager
DESCRIPTION:Ilmoittautuminen leena.kuutti@solania.fi tai 050 517 2729 \nLisätietoa kurssista: https://solania.fi/blogi/
URL:https://usui-reiki-ryoho.fi/tapahtuma/reiki-1-leena-06-2025/
LOCATION:Hoitola Solania\, Kultasepänkatu 5 A\, Kerava\, 04250\, Suomi
CATEGORIES:Kurssit,Reiki1
ORGANIZER;CN="Leena Kuutti-Fager":MAILTO:leena.kuutti@solania.fi
END:VEVENT
BEGIN:VEVENT
DTSTART;TZID=Europe/Helsinki:20250816T100000
DTEND;TZID=Europe/Helsinki:20250817T170000
DTSTAMP:20260421T213424
CREATED:20250610T164832Z
LAST-MODIFIED:20250610T164858Z
UID:2182-1755338400-1755450000@usui-reiki-ryoho.fi
SUMMARY:Reiki 1 -kurssi / Eija Laakso
DESCRIPTION:Lisätietoja kurssista Kisekin sivulta. \nIlmoittautuminen eija@kiseki.fi tai puh 050 584 1886
URL:https://usui-reiki-ryoho.fi/tapahtuma/reiki-1-eija-elo-2025/
LOCATION:Galleria Viileä punainen\, Päivöläntie 20\, Helsinki\, 00730\, Finland
CATEGORIES:Kurssit,Reiki1
END:VEVENT
BEGIN:VEVENT
DTSTART;TZID=Europe/Helsinki:20250822T180000
DTEND;TZID=Europe/Helsinki:20250822T210000
DTSTAMP:20260421T213424
CREATED:20250612T135923Z
LAST-MODIFIED:20250612T165902Z
UID:2231-1755885600-1755896400@usui-reiki-ryoho.fi
SUMMARY:Reiki-ilta / Helsinki
DESCRIPTION:Reiki-ilta on kaikille avoin tilaisuus. Se on tarkoitettu hoitojen tekemiseen sekä seurusteluun. Jokainen saa halutessaan reikihoidon ja kaikki ovat tervetulleita osallistumaan myös hoitamiseen. Etukäteen ei tarvitse osata mitään\, avoin mieli riittää. \nKokoontumispaikka on n. 400 m Sörnäisten metroasemalta. \nOviraha 5 e\, tarjolla teetä ja pientä purtavaa. \nVoit tulla ja lähteä oman aikataulusi mukaan. \n\nEija\, puh. 050 584 1886\n\n\nKaisu\, puh. 040 585 0623\nIrina\, puh. 044 599 2250\nAnni\, puh. 045 315 9910
URL:https://usui-reiki-ryoho.fi/tapahtuma/reiki-ilta-helsinki-7/
LOCATION:PPPilates-tila\, Allotriankuja 6\, Helsinki\, 00580\, Suomi
CATEGORIES:Reiki-ilta / Reiki-iltapäivä
END:VEVENT
BEGIN:VEVENT
DTSTART;TZID=Europe/Helsinki:20250823T100000
DTEND;TZID=Europe/Helsinki:20250824T170000
DTSTAMP:20260421T213424
CREATED:20250708T122914Z
LAST-MODIFIED:20250708T122914Z
UID:2262-1755943200-1756054800@usui-reiki-ryoho.fi
SUMMARY:Reiki 2 -kurssi / Leena Kuutti-Fager
DESCRIPTION:Ilmoittautuminen leena.kuutti@solania.fi tai 050 517 2729 \nLisätietoa kurssista: https://solania.fi/blogi/
URL:https://usui-reiki-ryoho.fi/tapahtuma/reiki-2-leena-elo-2025/
LOCATION:Hoitola Solania\, Kultasepänkatu 5 A\, Kerava\, 04250\, Suomi
CATEGORIES:Kurssit,Reiki2
ORGANIZER;CN="Leena Kuutti-Fager":MAILTO:leena.kuutti@solania.fi
END:VEVENT
BEGIN:VEVENT
DTSTART;TZID=Europe/Helsinki:20250826T180000
DTEND;TZID=Europe/Helsinki:20250829T210000
DTSTAMP:20260421T213424
CREATED:20250615T174453Z
LAST-MODIFIED:20250615T174853Z
UID:2255-1756231200-1756501200@usui-reiki-ryoho.fi
SUMMARY:Reiki 2 -kurssi\, iltakurssi / Marko Tilles
DESCRIPTION:HUOM! Iltakurssi\, 4 peräkkäistä iltaa 26. – 29.8.2025 kello 18 – 21 \nKurssin sisältö: Reiki-2 \nIlmoittautuminen ja lisätiedot: Markolta\, yhteystiedot alla
URL:https://usui-reiki-ryoho.fi/tapahtuma/reiki-2-iltakurssi-marko-08-2025/
LOCATION:Kodin tyyli -myymälä\, Naaranpajuntie 1\, Nummela\, 03100\, Suomi
CATEGORIES:Kurssit,Reiki2
ORGANIZER;CN="Marko Tilles":MAILTO:markotilles7@gmail.com
END:VEVENT
BEGIN:VEVENT
DTSTART;TZID=Europe/Helsinki:20250830T100000
DTEND;TZID=Europe/Helsinki:20250831T170000
DTSTAMP:20260421T213424
CREATED:20250610T183336Z
LAST-MODIFIED:20250610T183336Z
UID:2223-1756548000-1756659600@usui-reiki-ryoho.fi
SUMMARY:Reiki 1 -kurssi / Kaisu Sutinen
DESCRIPTION:Lisätietoja kurssin sisällöstä: Reiki-1 \nIlmoittautuminen Kaisulle numeroon 040 585 0623.
URL:https://usui-reiki-ryoho.fi/tapahtuma/reiki-1-kaisu-elo-2025/
LOCATION:PPPilates-tila\, Allotriankuja 6\, Helsinki\, 00580\, Suomi
CATEGORIES:Kurssit,Reiki1
END:VEVENT
BEGIN:VEVENT
DTSTART;TZID=Europe/Helsinki:20250906T100000
DTEND;TZID=Europe/Helsinki:20250907T170000
DTSTAMP:20260421T213424
CREATED:20250610T173955Z
LAST-MODIFIED:20250610T183744Z
UID:2195-1757152800-1757264400@usui-reiki-ryoho.fi
SUMMARY:Reiki 1 -kurssi / Anni Siitonen
DESCRIPTION:Lisätietoja kurssin sisällöstä: Reiki-1 \nIlmoittautuminen Annille.
URL:https://usui-reiki-ryoho.fi/tapahtuma/reiki-1-anni-syys-2025/
LOCATION:PPPilates-tila\, Allotriankuja 6\, Helsinki\, 00580\, Suomi
CATEGORIES:Kurssit,Reiki1
ORGANIZER;CN="Anni Siitonen":MAILTO:anni.siitonen1@gmail.com
END:VEVENT
BEGIN:VEVENT
DTSTART;TZID=Europe/Helsinki:20250906T100000
DTEND;TZID=Europe/Helsinki:20250907T170000
DTSTAMP:20260421T213424
CREATED:20250610T181425Z
LAST-MODIFIED:20250610T181745Z
UID:2211-1757152800-1757264400@usui-reiki-ryoho.fi
SUMMARY:Reiki 1 -kurssi / Kari Paulus
DESCRIPTION:Ilmoittautuminen Karille puh. 050 341 3852. \nLisätietoja kurssin sisällöstä: Reiki-1
URL:https://usui-reiki-ryoho.fi/tapahtuma/reiki-1-kari-syys-2025/
LOCATION:Sturenkadun hoitola\, Sturenkatu 43\, Helsinki\, 00740\, Suomi
CATEGORIES:Kurssit,Reiki1
END:VEVENT
BEGIN:VEVENT
DTSTART;TZID=Europe/Helsinki:20250909T180000
DTEND;TZID=Europe/Helsinki:20250912T210000
DTSTAMP:20260421T213424
CREATED:20250615T174110Z
LAST-MODIFIED:20250615T174211Z
UID:2252-1757440800-1757710800@usui-reiki-ryoho.fi
SUMMARY:Reiki 1 -kurssi\, iltakurssi / Marko Tilles
DESCRIPTION:HUOM! Iltakurssi\, 4 peräkkäistä iltaa 9. – 12.9.2025 kello 18 – 21 \nKurssin sisältö: Reiki-1 \nIlmoittautuminen ja lisätiedot: Markolta\, yhteystiedot alla
URL:https://usui-reiki-ryoho.fi/tapahtuma/reiki-1-iltakurssi-marko-09-2025/
LOCATION:Kodin tyyli -myymälä\, Naaranpajuntie 1\, Nummela\, 03100\, Suomi
CATEGORIES:Kurssit,Reiki1
ORGANIZER;CN="Marko Tilles":MAILTO:markotilles7@gmail.com
END:VEVENT
BEGIN:VEVENT
DTSTART;TZID=Europe/Helsinki:20250912T180000
DTEND;TZID=Europe/Helsinki:20250912T210000
DTSTAMP:20260421T213424
CREATED:20250612T140610Z
LAST-MODIFIED:20250612T165812Z
UID:2233-1757700000-1757710800@usui-reiki-ryoho.fi
SUMMARY:Reiki-ilta / Helsinki
DESCRIPTION:Reiki-ilta on kaikille avoin tilaisuus. Se on tarkoitettu hoitojen tekemiseen sekä seurusteluun. Jokainen saa halutessaan reikihoidon ja kaikki ovat tervetulleita osallistumaan myös hoitamiseen. Etukäteen ei tarvitse osata mitään\, avoin mieli riittää. \nKokoontumispaikka on n. 400 m Sörnäisten metroasemalta. \nOviraha 5 e\, tarjolla teetä ja pientä purtavaa. \nVoit tulla ja lähteä oman aikataulusi mukaan. \n\nEija\, puh. 050 584 1886\n\n\nKaisu\, puh. 040 585 0623\nIrina\, puh. 044 599 2250\nAnni\, puh. 045 315 9910
URL:https://usui-reiki-ryoho.fi/tapahtuma/reiki-ilta-helsinki-8/
LOCATION:PPPilates-tila\, Allotriankuja 6\, Helsinki\, 00580\, Suomi
CATEGORIES:Reiki-ilta / Reiki-iltapäivä
END:VEVENT
BEGIN:VEVENT
DTSTART;TZID=Europe/Helsinki:20250920T090000
DTEND;TZID=Europe/Helsinki:20250921T160000
DTSTAMP:20260421T213424
CREATED:20250817T112605Z
LAST-MODIFIED:20250817T113146Z
UID:2267-1758358800-1758470400@usui-reiki-ryoho.fi
SUMMARY:Reiki 1 -kurssi / Raija Yli-Jyrä
DESCRIPTION:Ilmoittautuminen viimeistään 31.8.2025 Keski-Pohjanmaan kansanopiston kurssisivun kautta. \nKurssin sisällöstä: Reiki-1
URL:https://usui-reiki-ryoho.fi/tapahtuma/reiki-1-kurssi-raija-09-2025/
LOCATION:Keski-Pohjanmaan kansanopisto\, Opistontie 1\, Kälviä\, 68300\, Suomi
CATEGORIES:Kurssit,Reiki1
END:VEVENT
BEGIN:VEVENT
DTSTART;TZID=Europe/Helsinki:20250920T100000
DTEND;TZID=Europe/Helsinki:20250921T170000
DTSTAMP:20260421T213424
CREATED:20250708T123214Z
LAST-MODIFIED:20250708T123214Z
UID:2264-1758362400-1758474000@usui-reiki-ryoho.fi
SUMMARY:Reiki 1 -kurssi / Leena Kuutti-Fager
DESCRIPTION:Ilmoittautuminen leena.kuutti@solania.fi tai 050 517 2729 \nLisätietoa kurssista: https://solania.fi/blogi/
URL:https://usui-reiki-ryoho.fi/tapahtuma/reiki-1-leena-09-2025/
LOCATION:Hoitola Solania\, Kultasepänkatu 5 A\, Kerava\, 04250\, Suomi
CATEGORIES:Kurssit,Reiki1
ORGANIZER;CN="Leena Kuutti-Fager":MAILTO:leena.kuutti@solania.fi
END:VEVENT
BEGIN:VEVENT
DTSTART;TZID=Europe/Helsinki:20250927T100000
DTEND;TZID=Europe/Helsinki:20250928T170000
DTSTAMP:20260421T213424
CREATED:20250610T181947Z
LAST-MODIFIED:20250610T181947Z
UID:2217-1758967200-1759078800@usui-reiki-ryoho.fi
SUMMARY:Reiki 2 -kurssi / Kari Paulus
DESCRIPTION:Ilmoittautuminen Karille puh. 050 341 3852 \nLisätietoja kurssin sisällöstä: Reiki-2
URL:https://usui-reiki-ryoho.fi/tapahtuma/reiki-2-kari-syys-2025/
LOCATION:Sturenkadun hoitola\, Sturenkatu 43\, Helsinki\, 00740\, Suomi
CATEGORIES:Kurssit,Reiki2
END:VEVENT
BEGIN:VEVENT
DTSTART;TZID=Europe/Helsinki:20251004T100000
DTEND;TZID=Europe/Helsinki:20251005T170000
DTSTAMP:20260421T213424
CREATED:20250610T182250Z
LAST-MODIFIED:20250610T182250Z
UID:2219-1759572000-1759683600@usui-reiki-ryoho.fi
SUMMARY:Japanilaiset reikitekniikat eli alkuperäiset Usuin reikin hoitotavat -viikonloppukurssi / Kari Paulus
DESCRIPTION:Tämä kurssi on tarkoitettu Reiki 2 -kurssin käyneille. \nIlmoittautuminen Karille puh. 050 341 3852. \nLisätietoja kurssin sisällöstä: Japanilaiset reikitekniikat
URL:https://usui-reiki-ryoho.fi/tapahtuma/reikitekniikat-kari-loka-2025/
LOCATION:Sturenkadun hoitola\, Sturenkatu 43\, Helsinki\, 00740\, Suomi
CATEGORIES:Hoitotavat,Kurssit
END:VEVENT
BEGIN:VEVENT
DTSTART;TZID=Europe/Helsinki:20251010T180000
DTEND;TZID=Europe/Helsinki:20251010T210000
DTSTAMP:20260421T213424
CREATED:20250612T140651Z
LAST-MODIFIED:20250612T165719Z
UID:2235-1760119200-1760130000@usui-reiki-ryoho.fi
SUMMARY:Reiki-ilta / Helsinki
DESCRIPTION:Reiki-ilta on kaikille avoin tilaisuus. Se on tarkoitettu hoitojen tekemiseen sekä seurusteluun. Jokainen saa halutessaan reikihoidon ja kaikki ovat tervetulleita osallistumaan myös hoitamiseen. Etukäteen ei tarvitse osata mitään\, avoin mieli riittää. \nKokoontumispaikka on n. 400 m Sörnäisten metroasemalta. \nOviraha 5 e\, tarjolla teetä ja pientä purtavaa. \nVoit tulla ja lähteä oman aikataulusi mukaan. \n\nEija\, puh. 050 584 1886\n\n\nKaisu\, puh. 040 585 0623\nIrina\, puh. 044 599 2250\nAnni\, puh. 045 315 9910
URL:https://usui-reiki-ryoho.fi/tapahtuma/reiki-ilta-helsinki-9/
LOCATION:PPPilates-tila\, Allotriankuja 6\, Helsinki\, 00580\, Suomi
CATEGORIES:Reiki-ilta / Reiki-iltapäivä
END:VEVENT
BEGIN:VEVENT
DTSTART;TZID=Europe/Helsinki:20251011T100000
DTEND;TZID=Europe/Helsinki:20251011T163000
DTSTAMP:20260421T213424
CREATED:20250610T182632Z
LAST-MODIFIED:20250610T182632Z
UID:2221-1760176800-1760200200@usui-reiki-ryoho.fi
SUMMARY:Japanilaiset tekniikat harjoittelupäivä
DESCRIPTION:Jos olet käynyt Japanilaiset reikitekniikat -viikonloppukurssin\, voit tulla tähän päivään harjoittelemaan tekniikoita. \nIlmoittautuminen: Kari Paulus\, tekstiviestillä puh. 050 341 3852
URL:https://usui-reiki-ryoho.fi/tapahtuma/japanilaiset-tekniikat-harjoittelupaiva-loka-2025/
LOCATION:Sturenkadun hoitola\, Sturenkatu 43\, Helsinki\, 00740\, Suomi
CATEGORIES:Tekniikkapäivä
END:VEVENT
BEGIN:VEVENT
DTSTART;TZID=Europe/Helsinki:20251011T100000
DTEND;TZID=Europe/Helsinki:20251012T170000
DTSTAMP:20260421T213424
CREATED:20250610T165039Z
LAST-MODIFIED:20250610T165104Z
UID:2186-1760176800-1760288400@usui-reiki-ryoho.fi
SUMMARY:Reiki 2 -kurssi / Eija Laakso
DESCRIPTION:Tämä kurssi on tarkoitettu Reiki 1 -kurssin käyneille. \nLisätietoja kurssista Kisekin sivulta. \nIlmoittautuminen eija@kiseki.fi tai puh 050 584 1886
URL:https://usui-reiki-ryoho.fi/tapahtuma/reiki-2-eija-loka-2025/
LOCATION:Galleria Viileä punainen\, Päivöläntie 20\, Helsinki\, 00730\, Finland
CATEGORIES:Kurssit,Reiki2
END:VEVENT
BEGIN:VEVENT
DTSTART;TZID=Europe/Helsinki:20251011T150000
DTEND;TZID=Europe/Helsinki:20251012T170000
DTSTAMP:20260421T213424
CREATED:20250615T174739Z
LAST-MODIFIED:20250615T174739Z
UID:2257-1760194800-1760288400@usui-reiki-ryoho.fi
SUMMARY:Reiki 1 -kurssi / Marko Tilles
DESCRIPTION:Kurssin kellonajat: \nlauantai 11.10.2025 kello 15-20 \nsunnuntai 12.10.2025 kello 10-17 \n  \nKurssin sisältö: Reiki-1 \nIlmoittautuminen ja lisätiedot: Markolta\, yhteystiedot alla
URL:https://usui-reiki-ryoho.fi/tapahtuma/reiki-1-marko-10-2025/
LOCATION:Kodin tyyli -myymälä\, Naaranpajuntie 1\, Nummela\, 03100\, Suomi
CATEGORIES:Kurssit,Reiki1
ORGANIZER;CN="Marko Tilles":MAILTO:markotilles7@gmail.com
END:VEVENT
BEGIN:VEVENT
DTSTART;TZID=Europe/Helsinki:20251108T120000
DTEND;TZID=Europe/Helsinki:20251108T163000
DTSTAMP:20260421T213424
CREATED:20251005T103708Z
LAST-MODIFIED:20251005T103708Z
UID:2273-1762603200-1762619400@usui-reiki-ryoho.fi
SUMMARY:Henkireikiä - reikipäivä
DESCRIPTION:Tervetuloa syksyn Henkireikiä päivään Tapanilan terveyteen. \nPäivässä on tarjolla mm. \n\nreikihoitoja\nlyhyitä tietoiskuja reikistä\nmeditaatiota\njutustelua tuttujen ja tuntemattomien kesken\npientä purtavaa\n\nVoit tulla oman aikataulusi mukaan ja viihtyä lyhyemmän tai pitemmän aikaa. \nTilaisuus on kaikille avoin ja maksuton. Ei ennakkoilmoittautumista.
URL:https://usui-reiki-ryoho.fi/tapahtuma/henkireikia-marras-2025/
LOCATION:Tapanilan Terveys\, KehoMielikeskus\, Päivöläntie 31\, Helsinki\, 00730\, Suomi
CATEGORIES:Tapahtumat
END:VEVENT
BEGIN:VEVENT
DTSTART;TZID=Europe/Helsinki:20251114T180000
DTEND;TZID=Europe/Helsinki:20251114T210000
DTSTAMP:20260421T213424
CREATED:20250612T141155Z
LAST-MODIFIED:20250612T165625Z
UID:2239-1763143200-1763154000@usui-reiki-ryoho.fi
SUMMARY:Reiki-ilta / Helsinki
DESCRIPTION:Reiki-ilta on kaikille avoin tilaisuus. Se on tarkoitettu hoitojen tekemiseen sekä seurusteluun. Jokainen saa halutessaan reikihoidon ja kaikki ovat tervetulleita osallistumaan myös hoitamiseen. Etukäteen ei tarvitse osata mitään\, avoin mieli riittää. \nKokoontumispaikka on n. 400 m Sörnäisten metroasemalta. \nOviraha 5 e\, tarjolla teetä ja pientä purtavaa. \nVoit tulla ja lähteä oman aikataulusi mukaan. \n\nEija\, puh. 050 584 1886\n\n\nKaisu\, puh. 040 585 0623\nIrina\, puh. 044 599 2250\nAnni\, puh. 045 315 9910
URL:https://usui-reiki-ryoho.fi/tapahtuma/reiki-ilta-helsinki-10/
LOCATION:PPPilates-tila\, Allotriankuja 6\, Helsinki\, 00580\, Suomi
CATEGORIES:Reiki-ilta / Reiki-iltapäivä
END:VEVENT
BEGIN:VEVENT
DTSTART;TZID=Europe/Helsinki:20251115T100000
DTEND;TZID=Europe/Helsinki:20251116T170000
DTSTAMP:20260421T213424
CREATED:20250610T165330Z
LAST-MODIFIED:20250610T165330Z
UID:2188-1763200800-1763312400@usui-reiki-ryoho.fi
SUMMARY:Japanilaiset reikitekniikat eli alkuperäiset Usuin reikin hoitotavat -viikonloppukurssi / Eija Laakso
DESCRIPTION:Tämä kurssi on tarkoitettu Reiki 2 -kurssin käyneille. \nLisätietoja kurssista Kisekin sivulta. \nIlmoittautuminen eija@kiseki.fi tai puh 050 584 1886
URL:https://usui-reiki-ryoho.fi/tapahtuma/japanilaiset-reikitekniikat-eija-marras-2025/
LOCATION:Galleria Viileä punainen\, Päivöläntie 20\, Helsinki\, 00730\, Finland
CATEGORIES:Hoitotavat,Kurssit
END:VEVENT
BEGIN:VEVENT
DTSTART;TZID=Europe/Helsinki:20251115T100000
DTEND;TZID=Europe/Helsinki:20251116T170000
DTSTAMP:20260421T213424
CREATED:20250610T174157Z
LAST-MODIFIED:20250610T183639Z
UID:2197-1763200800-1763312400@usui-reiki-ryoho.fi
SUMMARY:Reiki 1 -course in english / Anni Siitonen
DESCRIPTION:More information on the course: Reiki-1 in English \nRegistration to Anni. See contact info below.
URL:https://usui-reiki-ryoho.fi/tapahtuma/reiki-1-en-anni-marras-2025/
LOCATION:PPPilates-tila\, Allotriankuja 6\, Helsinki\, 00580\, Suomi
CATEGORIES:Kurssit,Reiki1
ORGANIZER;CN="Anni Siitonen":MAILTO:anni.siitonen1@gmail.com
END:VEVENT
END:VCALENDAR