BEGIN:VCALENDAR
VERSION:2.0
PRODID:-//Usui Reiki Ryoho ry - ECPv6.15.20//NONSGML v1.0//EN
CALSCALE:GREGORIAN
METHOD:PUBLISH
X-ORIGINAL-URL:https://usui-reiki-ryoho.fi
X-WR-CALDESC:Tapahtumat Usui Reiki Ryoho ry
REFRESH-INTERVAL;VALUE=DURATION:PT1H
X-Robots-Tag:noindex
X-PUBLISHED-TTL:PT1H
BEGIN:VTIMEZONE
TZID:Europe/Helsinki
BEGIN:DAYLIGHT
TZOFFSETFROM:+0200
TZOFFSETTO:+0300
TZNAME:EEST
DTSTART:20230326T010000
END:DAYLIGHT
BEGIN:STANDARD
TZOFFSETFROM:+0300
TZOFFSETTO:+0200
TZNAME:EET
DTSTART:20231029T010000
END:STANDARD
BEGIN:DAYLIGHT
TZOFFSETFROM:+0200
TZOFFSETTO:+0300
TZNAME:EEST
DTSTART:20240331T010000
END:DAYLIGHT
BEGIN:STANDARD
TZOFFSETFROM:+0300
TZOFFSETTO:+0200
TZNAME:EET
DTSTART:20241027T010000
END:STANDARD
BEGIN:DAYLIGHT
TZOFFSETFROM:+0200
TZOFFSETTO:+0300
TZNAME:EEST
DTSTART:20250330T010000
END:DAYLIGHT
BEGIN:STANDARD
TZOFFSETFROM:+0300
TZOFFSETTO:+0200
TZNAME:EET
DTSTART:20251026T010000
END:STANDARD
END:VTIMEZONE
BEGIN:VEVENT
DTSTART;TZID=Europe/Helsinki:20240302T100000
DTEND;TZID=Europe/Helsinki:20240303T170000
DTSTAMP:20260422T150603
CREATED:20231228T133234Z
LAST-MODIFIED:20231228T133234Z
UID:1860-1709373600-1709485200@usui-reiki-ryoho.fi
SUMMARY:Japanilaiset reikitekniikat eli alkuperäiset Usuin reikin hoitotavat -viikonloppukurssi / Kari Paulus
DESCRIPTION:Tämä kurssi on tarkoitettu Reiki 2 -kurssin käyneille. \nIlmoittautuminen Karille puh. 050 341 3852. \nLisätietoja kurssin sisällöstä: Japanilaiset reikitekniikat
URL:https://usui-reiki-ryoho.fi/tapahtuma/reikitekniikat-kari-maalis-2024/
LOCATION:Sturenkadun hoitola\, Sturenkatu 43\, Helsinki\, 00740\, Suomi
CATEGORIES:Hoitotavat,Kurssit
END:VEVENT
BEGIN:VEVENT
DTSTART;TZID=Europe/Helsinki:20240315T180000
DTEND;TZID=Europe/Helsinki:20240315T210000
DTSTAMP:20260422T150603
CREATED:20231228T131120Z
LAST-MODIFIED:20231228T131120Z
UID:1841-1710525600-1710536400@usui-reiki-ryoho.fi
SUMMARY:Reiki-ilta
DESCRIPTION:Reiki-ilta on kaikille avoin tilaisuus. Se on tarkoitettu hoitojen tekemiseen sekä seurusteluun. Jokainen saa halutessaan reikihoidon ja kaikki ovat tervetulleita osallistumaan myös hoitamiseen. Etukäteen ei tarvitse osata mitään\, avoin mieli riittää. \nKokoontumispaikka on n. 400 m Sörnäisten metroasemalta. \nOviraha 5 e\, tarjolla teetä ja pientä purtavaa. \nVoit tulla ja lähteä oman aikataulusi mukaan. \nKunnioitathan kaikkien terveyttä ja jäät kotiin\, mikäli tunnet olevasi sairas. \n\nEija\, puh. 045 857 3400\n\n\nKaisu\, puh. 040 585 0623
URL:https://usui-reiki-ryoho.fi/tapahtuma/reiki-ilta-maalis-2024/
LOCATION:PPPilates-tila\, Allotriankuja 6\, Helsinki\, 00580\, Suomi
CATEGORIES:Reiki-ilta / Reiki-iltapäivä
END:VEVENT
BEGIN:VEVENT
DTSTART;TZID=Europe/Helsinki:20240323T100000
DTEND;TZID=Europe/Helsinki:20240324T170000
DTSTAMP:20260422T150603
CREATED:20231228T132254Z
LAST-MODIFIED:20231228T132254Z
UID:1851-1711188000-1711299600@usui-reiki-ryoho.fi
SUMMARY:Reiki 1 -kurssi / Kari Paulus
DESCRIPTION:Ilmoittautuminen Karille puh. 050 341 3852. \nLisätietoja kurssin sisällöstä: Reiki-1
URL:https://usui-reiki-ryoho.fi/tapahtuma/reiki-1-kari-maalis-2024/
LOCATION:Sturenkadun hoitola\, Sturenkatu 43\, Helsinki\, 00740\, Suomi
CATEGORIES:Kurssit,Reiki1
END:VEVENT
BEGIN:VEVENT
DTSTART;TZID=Europe/Helsinki:20240406T120000
DTEND;TZID=Europe/Helsinki:20240406T170000
DTSTAMP:20260422T150603
CREATED:20240217T150949Z
LAST-MODIFIED:20240217T150949Z
UID:1909-1712404800-1712422800@usui-reiki-ryoho.fi
SUMMARY:Henkireikiä -hoitopäivä
DESCRIPTION:Tervetuloa kaikille avoimeen hyvinvointipäivään – Henkireikiä tapahtumaan \nTarjolla mm. \n\nReikihoitoja\nNoin klo 14 luento itämaisen ja länsimaisen lääketieteen eroista ja yhtäläisyyksistä. Luennoijana Ilkka Westman.\nVanhojen ja uusien tuttujen tapaamista\, kuulumisten vaihtoa\, jutustelua\, yhdessäoloa\nPikkupurtavaa\, teetä ja kahvia\nOta omat eväät\, jos haluat syödä hieman tukevammin\n\nTilaisuuteen on vapaa pääsy eikä sinne tarvitse erikseen ilmoittautua. \nIlmoittaudu mukaan tekemään reikihoitoja\, viestittele Eijalle numeroon 045 857 3400. Talkoolaiset paikalle jo klo 10.
URL:https://usui-reiki-ryoho.fi/tapahtuma/henkireikia-hoitopaiva-huhti-2024/
LOCATION:Tapanilan Terveys\, KehoMielikeskus\, Päivöläntie 31\, Helsinki\, 00730\, Suomi
CATEGORIES:Tapahtumat
END:VEVENT
BEGIN:VEVENT
DTSTART;TZID=Europe/Helsinki:20240412T180000
DTEND;TZID=Europe/Helsinki:20240412T210000
DTSTAMP:20260422T150603
CREATED:20231228T131431Z
LAST-MODIFIED:20231228T131431Z
UID:1843-1712944800-1712955600@usui-reiki-ryoho.fi
SUMMARY:Reiki-ilta
DESCRIPTION:Reiki-ilta on kaikille avoin tilaisuus. Se on tarkoitettu hoitojen tekemiseen sekä seurusteluun. Jokainen saa halutessaan reikihoidon ja kaikki ovat tervetulleita osallistumaan myös hoitamiseen. Etukäteen ei tarvitse osata mitään\, avoin mieli riittää. \nKokoontumispaikka on n. 400 m Sörnäisten metroasemalta. \nOviraha 5 e\, tarjolla teetä ja pientä purtavaa. \nVoit tulla ja lähteä oman aikataulusi mukaan. \nKunnioitathan kaikkien terveyttä ja jäät kotiin\, mikäli tunnet olevasi sairas. \n\nEija\, puh. 045 857 3400\n\n\nKaisu\, puh. 040 585 0623
URL:https://usui-reiki-ryoho.fi/tapahtuma/reiki-ilta-huhti-2024/
LOCATION:PPPilates-tila\, Allotriankuja 6\, Helsinki\, 00580\, Suomi
CATEGORIES:Reiki-ilta / Reiki-iltapäivä
END:VEVENT
BEGIN:VEVENT
DTSTART;TZID=Europe/Helsinki:20240413T100000
DTEND;TZID=Europe/Helsinki:20240414T170000
DTSTAMP:20260422T150603
CREATED:20240126T175435Z
LAST-MODIFIED:20240126T175435Z
UID:1888-1713002400-1713114000@usui-reiki-ryoho.fi
SUMMARY:Reiki 2 -kurssi / Leena Kuutti-Fager
DESCRIPTION:Ilmoittautuminen leena.kuutti@solania.fi tai 050 517 2729 \nLisätietoa kurssista: https://solania.fi/blogi/
URL:https://usui-reiki-ryoho.fi/tapahtuma/reiki-2-kurssi-leena-kuutti-fager/
LOCATION:Hoitola Solania\, Kultasepänkatu 5 A\, Kerava\, 04250\, Suomi
CATEGORIES:Kurssit,Reiki2
ORGANIZER;CN="Leena Kuutti-Fager":MAILTO:leena.kuutti@solania.fi
END:VEVENT
BEGIN:VEVENT
DTSTART;TZID=Europe/Helsinki:20240420T080000
DTEND;TZID=Europe/Helsinki:20240421T160000
DTSTAMP:20260422T150603
CREATED:20240204T172830Z
LAST-MODIFIED:20240204T172830Z
UID:1895-1713600000-1713715200@usui-reiki-ryoho.fi
SUMMARY:Reiki 2 -kurssi / Raija Yli-Jyrä
DESCRIPTION:Ilmoittautuminen viimeistään 7.4.2024 Keski-Pohjanmaan kansanopiston kurssisivun kautta. \nKurssin sisällöstä: Reiki-2
URL:https://usui-reiki-ryoho.fi/tapahtuma/reiki-2-raija-huhti-2024/
LOCATION:Keski-Pohjanmaan kansanopisto\, Opistontie 1\, Kälviä\, 68300\, Suomi
CATEGORIES:Kurssit,Reiki2
END:VEVENT
BEGIN:VEVENT
DTSTART;TZID=Europe/Helsinki:20240420T100000
DTEND;TZID=Europe/Helsinki:20240421T170000
DTSTAMP:20260422T150603
CREATED:20230815T141729Z
LAST-MODIFIED:20240126T174716Z
UID:1733-1713607200-1713718800@usui-reiki-ryoho.fi
SUMMARY:Reiki 1  -kurssi / Anni Siitonen
DESCRIPTION:Lisätietoja kurssin sisällöstä: Reiki-1 \nIlmoittautuminen Annille.
URL:https://usui-reiki-ryoho.fi/tapahtuma/reiki-1-anni-huhti-2024/
LOCATION:PPPilates-tila\, Allotriankuja 6\, Helsinki\, 00580\, Suomi
CATEGORIES:Kurssit,Reiki1
ORGANIZER;CN="Anni Siitonen":MAILTO:anni.siitonen1@gmail.com
END:VEVENT
BEGIN:VEVENT
DTSTART;TZID=Europe/Helsinki:20240420T100000
DTEND;TZID=Europe/Helsinki:20240421T170000
DTSTAMP:20260422T150603
CREATED:20231228T132837Z
LAST-MODIFIED:20231228T132837Z
UID:1857-1713607200-1713718800@usui-reiki-ryoho.fi
SUMMARY:Reiki 2 -kurssi / Kari Paulus
DESCRIPTION:Ilmoittautuminen Karille puh. 050 341 3852 \nLisätietoja kurssin sisällöstä: Reiki-2
URL:https://usui-reiki-ryoho.fi/tapahtuma/reiki-2-kari-huhti-2024/
LOCATION:Sturenkadun hoitola\, Sturenkatu 43\, Helsinki\, 00740\, Suomi
CATEGORIES:Kurssit,Reiki2
END:VEVENT
BEGIN:VEVENT
DTSTART;TZID=Europe/Helsinki:20240510T180000
DTEND;TZID=Europe/Helsinki:20240510T210000
DTSTAMP:20260422T150603
CREATED:20231228T131548Z
LAST-MODIFIED:20231228T131548Z
UID:1846-1715364000-1715374800@usui-reiki-ryoho.fi
SUMMARY:Reiki-ilta
DESCRIPTION:Reiki-ilta on kaikille avoin tilaisuus. Se on tarkoitettu hoitojen tekemiseen sekä seurusteluun. Jokainen saa halutessaan reikihoidon ja kaikki ovat tervetulleita osallistumaan myös hoitamiseen. Etukäteen ei tarvitse osata mitään\, avoin mieli riittää. \nKokoontumispaikka on n. 400 m Sörnäisten metroasemalta. \nOviraha 5 e\, tarjolla teetä ja pientä purtavaa. \nVoit tulla ja lähteä oman aikataulusi mukaan. \nKunnioitathan kaikkien terveyttä ja jäät kotiin\, mikäli tunnet olevasi sairas. \n\nEija\, puh. 045 857 3400\n\n\nKaisu\, puh. 040 585 0623
URL:https://usui-reiki-ryoho.fi/tapahtuma/reiki-ilta-touko-2024/
LOCATION:PPPilates-tila\, Allotriankuja 6\, Helsinki\, 00580\, Suomi
CATEGORIES:Reiki-ilta / Reiki-iltapäivä
END:VEVENT
BEGIN:VEVENT
DTSTART;TZID=Europe/Helsinki:20240518T100000
DTEND;TZID=Europe/Helsinki:20240519T170000
DTSTAMP:20260422T150603
CREATED:20230903T174818Z
LAST-MODIFIED:20240312T174827Z
UID:1753-1716026400-1716138000@usui-reiki-ryoho.fi
SUMMARY:Reiki 1-kurssi / Eija Laakso
DESCRIPTION:Tietoa kurssin sisällöstä: Reiki 1. \nIlmoittautuminen eija@kiseki.fi tai puh 045 857 3400
URL:https://usui-reiki-ryoho.fi/tapahtuma/reiki-1-eija-touko-2024/
LOCATION:Tapanilan Terveys\, KehoMielikeskus\, Päivöläntie 31\, Helsinki\, 00730\, Suomi
CATEGORIES:Kurssit,Reiki1
END:VEVENT
BEGIN:VEVENT
DTSTART;TZID=Europe/Helsinki:20240518T100000
DTEND;TZID=Europe/Helsinki:20240519T170000
DTSTAMP:20260422T150603
CREATED:20231228T132442Z
LAST-MODIFIED:20231228T132512Z
UID:1853-1716026400-1716138000@usui-reiki-ryoho.fi
SUMMARY:Reiki 1 -kurssi / Kari Paulus
DESCRIPTION:Ilmoittautuminen Karille puh. 050 341 3852. \nLisätietoja kurssin sisällöstä: Reiki-1
URL:https://usui-reiki-ryoho.fi/tapahtuma/reiki-1-kari-touko-2024/
LOCATION:Sturenkadun hoitola\, Sturenkatu 43\, Helsinki\, 00740\, Suomi
CATEGORIES:Kurssit,Reiki1
END:VEVENT
BEGIN:VEVENT
DTSTART;TZID=Europe/Helsinki:20240607T180000
DTEND;TZID=Europe/Helsinki:20240607T210000
DTSTAMP:20260422T150603
CREATED:20231228T131727Z
LAST-MODIFIED:20231228T131727Z
UID:1849-1717783200-1717794000@usui-reiki-ryoho.fi
SUMMARY:Reiki-ilta
DESCRIPTION:Reiki-ilta on kaikille avoin tilaisuus. Se on tarkoitettu hoitojen tekemiseen sekä seurusteluun. Jokainen saa halutessaan reikihoidon ja kaikki ovat tervetulleita osallistumaan myös hoitamiseen. Etukäteen ei tarvitse osata mitään\, avoin mieli riittää. \nKokoontumispaikka on n. 400 m Sörnäisten metroasemalta. \nOviraha 5 e\, tarjolla teetä ja pientä purtavaa. \nVoit tulla ja lähteä oman aikataulusi mukaan. \nKunnioitathan kaikkien terveyttä ja jäät kotiin\, mikäli tunnet olevasi sairas. \n\nEija\, puh. 045 857 3400\n\n\nKaisu\, puh. 040 585 0623
URL:https://usui-reiki-ryoho.fi/tapahtuma/reiki-ilta-kesa-2024/
LOCATION:PPPilates-tila\, Allotriankuja 6\, Helsinki\, 00580\, Suomi
CATEGORIES:Reiki-ilta / Reiki-iltapäivä
END:VEVENT
BEGIN:VEVENT
DTSTART;TZID=Europe/Helsinki:20240608T100000
DTEND;TZID=Europe/Helsinki:20240609T170000
DTSTAMP:20260422T150603
CREATED:20240421T172429Z
LAST-MODIFIED:20240421T172429Z
UID:1922-1717840800-1717952400@usui-reiki-ryoho.fi
SUMMARY:Reiki 1-kurssi / Leena Kuutti-Fager
DESCRIPTION:Ilmoittautuminen leena.kuutti@solania.fi tai 050 517 2729 \nLisätietoa kurssista: https://solania.fi/blogi/
URL:https://usui-reiki-ryoho.fi/tapahtuma/reiki-1-leena-kesa-2024/
LOCATION:Hoitola Solania\, Kultasepänkatu 5 A\, Kerava\, 04250\, Suomi
CATEGORIES:Kurssit,Reiki1
ORGANIZER;CN="Leena Kuutti-Fager":MAILTO:leena.kuutti@solania.fi
END:VEVENT
BEGIN:VEVENT
DTSTART;TZID=Europe/Helsinki:20240806T180000
DTEND;TZID=Europe/Helsinki:20240809T210000
DTSTAMP:20260422T150603
CREATED:20240619T180458Z
LAST-MODIFIED:20240619T180458Z
UID:1968-1722967200-1723237200@usui-reiki-ryoho.fi
SUMMARY:Reiki 1 -kurssi / Marko Tilles
DESCRIPTION:HUOM! Iltakurssi\, 4 peräkkäistä iltaa \nKurssin sisältö: Reiki-1 \nIlmoittautuminen ja lisätiedot: Markolta\, yhteystiedot alla
URL:https://usui-reiki-ryoho.fi/tapahtuma/reiki-1-kurssi-marko-tilles/
LOCATION:Kodin tyyli -myymälä\, Naaranpajuntie 1\, Nummela\, 03100\, Suomi
CATEGORIES:Kurssit,Reiki1
ORGANIZER;CN="Marko Tilles":MAILTO:markotilles7@gmail.com
END:VEVENT
BEGIN:VEVENT
DTSTART;TZID=Europe/Helsinki:20240809T173000
DTEND;TZID=Europe/Helsinki:20240809T220000
DTSTAMP:20260422T150603
CREATED:20240620T133446Z
LAST-MODIFIED:20240620T133446Z
UID:1987-1723224600-1723240800@usui-reiki-ryoho.fi
SUMMARY:Kesäristeily Helsingin edustalla
DESCRIPTION:Usui Reiki Ryoho ry kutsuu sinut jatkamaan pitkää kuumaa kesää risteilyllä. Lähdemme liikkeelle Helsingin kauppatorilta SunLines yhtiön M/S Emmalla.  Tule mukaan syömään\, discoilemaan menneiden vuosikymmenten hittien rytmiin ja nauttimaan kesäisestä seurasta sekä Helsingin saariston merellisistä maisemista. \nKokoonnumme klo 17:30 Emma laivalle nauttimaan kesäisiä virvokkeita. Emma laiva löytyy kauppatorin laiturilta 19\, presidentinlinnan edestä\, Allas Sea Poolin ja Suomenlinnan lautan välistä. Emma lähtee liikkeelle klo 18:00 ja palaa noin klo 22:00. Tämän jälkeen suunnistamme halukkaiden kanssa yhdessä kohti kaupungin yöllisiä huvituksia. \nRisteilylipun hinta on 25€/hlö. Runsaan ja herkulliseen buffet-menuun hinta on 27€/hlö. Ellet ruokaile\, voit varata vain risteilylipun. \nBuffet menu: \n\nCaesar naturel (L\,G) keittiömme krutongeilla ja kastikkeella\nLämminsavulohi-perunasalaatti (M\,G)\nChimichurri kanavartaat (M\,G) ja minttujogurtti\nMarinoidut grillatut kasvikset (M\,G)\nPatonki (L) ja yrttilevite (L\,G)\n\nBuffet on tarjolla vain ennakkovarauksen tehneille. G = Gluteeniton\, L = Laktoositon. Ruokailijoille varataan pöytäpaikat alakerrasta. Vesi sisältyy buffetin hintaan ruokailun ajaksi. \nVaraamisen ja maksamisen osalta tämä on omatoimimatka. Ostathan lippusi suoraan nettisivulta: Sunlines \n\nValitse Risteilylippu ja Buffet (jos ruokailet)\nMerkitse mahdolliset juomatilaukset ja erikoisruokavaliot\nLisää yhteystietosi ja maksutietosi\nMaksa korttimaksuna\n\nTapahtumaan ei tarvitse olla yhdistyksen jäsen\, voit kutsua mukaan myös ystäväsi. \nTervetuloa mukaan!
URL:https://usui-reiki-ryoho.fi/tapahtuma/kesaristeily-2024/
LOCATION:Kauppatori\, Helsinki\, Eteläranta\, Helsinki\, 00170\, Suomi
CATEGORIES:Tapahtumat
END:VEVENT
BEGIN:VEVENT
DTSTART;TZID=Europe/Helsinki:20240816T180000
DTEND;TZID=Europe/Helsinki:20240816T210000
DTSTAMP:20260422T150603
CREATED:20240620T125206Z
LAST-MODIFIED:20240620T125227Z
UID:1974-1723831200-1723842000@usui-reiki-ryoho.fi
SUMMARY:Reiki-ilta
DESCRIPTION:Reiki-ilta on kaikille avoin tilaisuus. Se on tarkoitettu hoitojen tekemiseen sekä seurusteluun. Jokainen saa halutessaan reikihoidon ja kaikki ovat tervetulleita osallistumaan myös hoitamiseen. Etukäteen ei tarvitse osata mitään\, avoin mieli riittää. \nKokoontumispaikka on n. 400 m Sörnäisten metroasemalta. \nOviraha 5 e\, tarjolla teetä ja pientä purtavaa. \nVoit tulla ja lähteä oman aikataulusi mukaan. \nKunnioitathan kaikkien terveyttä ja jäät kotiin\, mikäli tunnet olevasi sairas. \n\nEija\, puh. 045 857 3400\n\n\nKaisu\, puh. 040 585 0623\nIrina\, puh. 044 599 2250
URL:https://usui-reiki-ryoho.fi/tapahtuma/reiki-ilta-elo-2024/
LOCATION:PPPilates-tila\, Allotriankuja 6\, Helsinki\, 00580\, Suomi
CATEGORIES:Reiki-ilta / Reiki-iltapäivä
END:VEVENT
BEGIN:VEVENT
DTSTART;TZID=Europe/Helsinki:20240907T100000
DTEND;TZID=Europe/Helsinki:20240908T170000
DTSTAMP:20260422T150603
CREATED:20240612T170341Z
LAST-MODIFIED:20240612T170713Z
UID:1953-1725703200-1725814800@usui-reiki-ryoho.fi
SUMMARY:Reiki 1 -kurssi / Kari Paulus
DESCRIPTION:Ilmoittautuminen Karille puh. 050 341 3852. \nLisätietoja kurssin sisällöstä: Reiki-1
URL:https://usui-reiki-ryoho.fi/tapahtuma/reiki-1-kari-syys-2024/
LOCATION:Sturenkadun hoitola\, Sturenkatu 43\, Helsinki\, 00740\, Suomi
CATEGORIES:Kurssit,Reiki1
END:VEVENT
BEGIN:VEVENT
DTSTART;TZID=Europe/Helsinki:20240907T100000
DTEND;TZID=Europe/Helsinki:20240908T170000
DTSTAMP:20260422T150603
CREATED:20240728T171959Z
LAST-MODIFIED:20240728T171959Z
UID:2011-1725703200-1725814800@usui-reiki-ryoho.fi
SUMMARY:Reiki 1-kurssi / Anni Siitonen
DESCRIPTION:Lisätietoja kurssin sisällöstä: Reiki-1 \nIlmoittautuminen Annille.
URL:https://usui-reiki-ryoho.fi/tapahtuma/reiki-1-anni-syys-2024/
LOCATION:PPPilates-tila\, Allotriankuja 6\, Helsinki\, 00580\, Suomi
CATEGORIES:Kurssit,Reiki1
ORGANIZER;CN="Anni Siitonen":MAILTO:anni.siitonen1@gmail.com
END:VEVENT
BEGIN:VEVENT
DTSTART;TZID=Europe/Helsinki:20240907T100000
DTEND;TZID=Europe/Helsinki:20240908T170000
DTSTAMP:20260422T150603
CREATED:20240812T174505Z
LAST-MODIFIED:20240812T175010Z
UID:2016-1725703200-1725814800@usui-reiki-ryoho.fi
SUMMARY:Reiki 1 -kurssi / Raija Yli-Jyrä
DESCRIPTION:Ilmoittautuminen viimeistään 25.8.2024 Keski-Pohjanmaan kansanopiston kurssisivun kautta. \nKurssin sisällöstä: Reiki-1
URL:https://usui-reiki-ryoho.fi/tapahtuma/reiki-1-raija-syys-2024/
LOCATION:Keski-Pohjanmaan kansanopisto\, Opistontie 1\, Kälviä\, 68300\, Suomi
CATEGORIES:Kurssit,Reiki1
END:VEVENT
BEGIN:VEVENT
DTSTART;TZID=Europe/Helsinki:20240914T100000
DTEND;TZID=Europe/Helsinki:20240915T170000
DTSTAMP:20260422T150603
CREATED:20240612T171842Z
LAST-MODIFIED:20240612T171842Z
UID:1966-1726308000-1726419600@usui-reiki-ryoho.fi
SUMMARY:Japanilaiset reikitekniikat eli alkuperäiset Usuin reikin hoitotavat -viikonloppukurssi / Kari Paulus
DESCRIPTION:Tämä kurssi on tarkoitettu Reiki 2 -kurssin käyneille. \nIlmoittautuminen Karille puh. 050 341 3852. \nLisätietoja kurssin sisällöstä: Japanilaiset reikitekniikat
URL:https://usui-reiki-ryoho.fi/tapahtuma/reikitekniikat-kari-syys-2024/
LOCATION:Sturenkadun hoitola\, Sturenkatu 43\, Helsinki\, 00740\, Suomi
CATEGORIES:Hoitotavat,Kurssit
END:VEVENT
BEGIN:VEVENT
DTSTART;TZID=Europe/Helsinki:20240914T100000
DTEND;TZID=Europe/Helsinki:20240915T170000
DTSTAMP:20260422T150603
CREATED:20240703T153752Z
LAST-MODIFIED:20240703T153943Z
UID:1993-1726308000-1726419600@usui-reiki-ryoho.fi
SUMMARY:Reiki 2 -kurssi / Leena Kuutti-Fager
DESCRIPTION:Ilmoittautuminen leena.kuutti@solania.fi tai 050 517 2729 \nLisätietoa kurssista: https://solania.fi/blogi/
URL:https://usui-reiki-ryoho.fi/tapahtuma/reiki-2-leena-syys-2024/
LOCATION:Hoitola Solania\, Kultasepänkatu 5 A\, Kerava\, 04250\, Suomi
CATEGORIES:Kurssit,Reiki2
ORGANIZER;CN="Leena Kuutti-Fager":MAILTO:leena.kuutti@solania.fi
END:VEVENT
BEGIN:VEVENT
DTSTART;TZID=Europe/Helsinki:20240927T180000
DTEND;TZID=Europe/Helsinki:20240927T210000
DTSTAMP:20260422T150603
CREATED:20240620T125535Z
LAST-MODIFIED:20240620T125535Z
UID:1976-1727460000-1727470800@usui-reiki-ryoho.fi
SUMMARY:Reiki-ilta
DESCRIPTION:Reiki-ilta on kaikille avoin tilaisuus. Se on tarkoitettu hoitojen tekemiseen sekä seurusteluun. Jokainen saa halutessaan reikihoidon ja kaikki ovat tervetulleita osallistumaan myös hoitamiseen. Etukäteen ei tarvitse osata mitään\, avoin mieli riittää. \nKokoontumispaikka on n. 400 m Sörnäisten metroasemalta. \nOviraha 5 e\, tarjolla teetä ja pientä purtavaa. \nVoit tulla ja lähteä oman aikataulusi mukaan. \nKunnioitathan kaikkien terveyttä ja jäät kotiin\, mikäli tunnet olevasi sairas. \n\nEija\, puh. 045 857 3400\n\n\nKaisu\, puh. 040 585 0623\nIrina\, puh. 044 599 2250
URL:https://usui-reiki-ryoho.fi/tapahtuma/reiki-ilta-syys-2024/
LOCATION:PPPilates-tila\, Allotriankuja 6\, Helsinki\, 00580\, Suomi
CATEGORIES:Reiki-ilta / Reiki-iltapäivä
END:VEVENT
BEGIN:VEVENT
DTSTART;TZID=Europe/Helsinki:20240928T100000
DTEND;TZID=Europe/Helsinki:20240929T170000
DTSTAMP:20260422T150603
CREATED:20240612T171135Z
LAST-MODIFIED:20240612T171135Z
UID:1960-1727517600-1727629200@usui-reiki-ryoho.fi
SUMMARY:Reiki 2 -kurssi / Kari Paulus
DESCRIPTION:Ilmoittautuminen Karille puh. 050 341 3852 \nLisätietoja kurssin sisällöstä: Reiki-2
URL:https://usui-reiki-ryoho.fi/tapahtuma/reiki-2-kari-syys-2024/
LOCATION:Sturenkadun hoitola\, Sturenkatu 43\, Helsinki\, 00740\, Suomi
CATEGORIES:Kurssit,Reiki2
END:VEVENT
BEGIN:VEVENT
DTSTART;TZID=Europe/Helsinki:20241005T150000
DTEND;TZID=Europe/Helsinki:20241006T170000
DTSTAMP:20260422T150603
CREATED:20240812T175820Z
LAST-MODIFIED:20240812T175820Z
UID:2019-1728140400-1728234000@usui-reiki-ryoho.fi
SUMMARY:Reiki 1 -kurssi / Marko Tilles
DESCRIPTION:Kurssin kellonajat: \nlauantai 5.10. kello 15-20 \nsunnuntai 6.10. kello 10-17 \n  \nKurssin sisältö: Reiki-1 \nIlmoittautuminen ja lisätiedot: Markolta\, yhteystiedot alla
URL:https://usui-reiki-ryoho.fi/tapahtuma/reiki-1-marko-loka-2024/
LOCATION:Kodin tyyli -myymälä\, Naaranpajuntie 1\, Nummela\, 03100\, Suomi
CATEGORIES:Kurssit,Reiki1
ORGANIZER;CN="Marko Tilles":MAILTO:markotilles7@gmail.com
END:VEVENT
BEGIN:VEVENT
DTSTART;TZID=Europe/Helsinki:20241018T200000
DTEND;TZID=Europe/Helsinki:20241023T220000
DTSTAMP:20260422T150603
CREATED:20231228T140937Z
LAST-MODIFIED:20240703T154000Z
UID:1866-1729281600-1729720800@usui-reiki-ryoho.fi
SUMMARY:Reiki 2 -kurssi Italiassa / Eija Laakso ja Sanna Ketomäki
DESCRIPTION:Kurssi pidetään normaalina kaksipäiväisenä kurssina\, minkä lisäksi sinulla on mahdollista osallistua yhteiselle retkellemme ja tutustua kaupungin nähtävyyksiin myös omin päin. \nKurssin sisältö: Reiki 2 kurssisisältö \nOpettajina kurssilla ovat Eija Laakso ja Sanna Ketomäki \nAlustava matkasuunnitelma: \n18.10.24 Lento Helsinki-Bergamo (Ryan Air klo 22:40 – 0:45) \n19.10.24 Majoittuminen\, vapaata oleilua\, tutustumista ympäristöön \n20.-21.10.24 Reiki 2 -kurssi \n22.10.24 Retkipäivä \n23.10.24 Vapaata tutustumista kaupunkiin. Lento Bergamo-Helsinki (Ryan Air klo 18:25 – 22:20) \nMajoittuminen ja kurssi pidetään B&B Ametistassa\, joka sijaitsee noin 5 km:n päässä Bergamon keskustasta\, Ponteranicassa\, minne pääsee Bergamon kaupunkibusseilla. \nAamiainen kuuluu majoituksen hintaan. Muut ruokailut maksetaan itse sen mukaan\, valmistammeko itse vai käymmekö maistelemassa paikallisia herkkuja ravintoloissa. Retkestä ja kulkemisesta tulee myös pieniä kuluja\, jotka tarkentuvat myöhemmin. \nHalutessasi voit viipyä pidemmänkin ajan. Ryan Airin lennot Helsinki – Bergamo – Helsinki ovat maanantaisin\, keskiviikkoisin ja perjantaisin. \n  \nIlmoittautuminen ja lisätiedot:  \nIlmoittaudu mukaan eija@kiseki.fi / 045 857 3400. \nKerro ilmoittautuessasi nimesi\, puhelinnumerosi ja sähköpostiosoitteesi. \nKurssille mahtuu 8 osallistujaa. Ensisijaisesti mukaan otetaan uusia oppilaita. \nJos paikkoja jää vapaaksi\, myös kertaajien on mahdollista osallistua. \n  \nKustannukset: \nKurssi 280€\, kertaajat 50€\, maksuohjeet ilmoittautumisen jälkeen. \nLennot edestakaisin noin 200 – 300 €. Hinta riippuu lennolle valittavista lisäpalveluista. \nMajoittuminen noin 35€/yö/hlö\, 2-3 hengen huoneissa\, sisältää aamiaisen. Maksetaan paikan päällä. \nMajoituksen etumaksu 50€/hlö\, joka vähennetään majoituksen kokonaishinnasta. Etumaksua ei palauteta\, mikäli joudut perumaan lähtösi. \nRuokailut\, retki ja kaupunkiliikkuminen toteutuneen mukaan. Maksetaan paikan päällä. \n  \nJokainen huolehtii omat lentolippunsa\, majoitusvarauksen ja matkavakuutuksen omatoimisesti. \n  \nIlmoittautuneille lähetetään lisätietoja matkasuunnitelmasta ja majoitusvarauksen tekemisestä. \nIlmoittautuneiden tapaaminen Helsingissä lauantaina 14.9.24 klo 13-15\, jossa käydään vielä matkasuunnitelmaa\, retkiä ja käytännön asioita läpi.
URL:https://usui-reiki-ryoho.fi/tapahtuma/reiki-2-italiassa-loka-2024/
LOCATION:B&B Ametista\, Bergamo\, Italia\, Ponteranica\, Bergamo\, 24010\, Italia
CATEGORIES:Kurssit,Reiki2
END:VEVENT
BEGIN:VEVENT
DTSTART;TZID=Europe/Helsinki:20241019T100000
DTEND;TZID=Europe/Helsinki:20241020T170000
DTSTAMP:20260422T150603
CREATED:20240612T170627Z
LAST-MODIFIED:20240612T170627Z
UID:1955-1729332000-1729443600@usui-reiki-ryoho.fi
SUMMARY:Reiki 1 -kurssi / Kari Paulus
DESCRIPTION:Ilmoittautuminen Karille puh. 050 341 3852. \nLisätietoja kurssin sisällöstä: Reiki-1
URL:https://usui-reiki-ryoho.fi/tapahtuma/reiki-1-kari-loka-2024/
LOCATION:Sturenkadun hoitola\, Sturenkatu 43\, Helsinki\, 00740\, Suomi
CATEGORIES:Kurssit,Reiki1
END:VEVENT
BEGIN:VEVENT
DTSTART;TZID=Europe/Helsinki:20241025T180000
DTEND;TZID=Europe/Helsinki:20241025T210000
DTSTAMP:20260422T150603
CREATED:20240620T125706Z
LAST-MODIFIED:20240620T125706Z
UID:1978-1729879200-1729890000@usui-reiki-ryoho.fi
SUMMARY:Reiki-ilta
DESCRIPTION:Reiki-ilta on kaikille avoin tilaisuus. Se on tarkoitettu hoitojen tekemiseen sekä seurusteluun. Jokainen saa halutessaan reikihoidon ja kaikki ovat tervetulleita osallistumaan myös hoitamiseen. Etukäteen ei tarvitse osata mitään\, avoin mieli riittää. \nKokoontumispaikka on n. 400 m Sörnäisten metroasemalta. \nOviraha 5 e\, tarjolla teetä ja pientä purtavaa. \nVoit tulla ja lähteä oman aikataulusi mukaan. \nKunnioitathan kaikkien terveyttä ja jäät kotiin\, mikäli tunnet olevasi sairas. \n\nEija\, puh. 045 857 3400\n\n\nKaisu\, puh. 040 585 0623\nIrina\, puh. 044 599 2250
URL:https://usui-reiki-ryoho.fi/tapahtuma/reiki-ilta-loka-2024/
LOCATION:PPPilates-tila\, Allotriankuja 6\, Helsinki\, 00580\, Suomi
CATEGORIES:Reiki-ilta / Reiki-iltapäivä
END:VEVENT
BEGIN:VEVENT
DTSTART;TZID=Europe/Helsinki:20241026T133000
DTEND;TZID=Europe/Helsinki:20241026T193000
DTSTAMP:20260422T150603
CREATED:20240915T113714Z
LAST-MODIFIED:20240916T173445Z
UID:2023-1729949400-1729971000@usui-reiki-ryoho.fi
SUMMARY:Kekrin ajan perinteisen hoitamisen ilta
DESCRIPTION:Kuinka kutsua ihmisiä mukaan johonkin\, millä ei oikein ole nimeä? Johonkin\, minkä tiedämme olevan ikiaikaista ja totta mutta joka näyttäytyy meille kaikille hiukan eri tavoin? Kutsumme kuitenkin. Palauttamaan yhdessä muistia siitä\, mitä olemuksesi ehkä jo tietääkin\, siitä\, miten täällä pohjoisessa on ennen vanhaan hoidettu. Haltioitumaan yhdessä rummun kannustaessa matkaan. Nostamaan luontoa lovesta. Yhdessä. Piirissä. Toisiimme tukeutuen. \nTervetuloa Kekrin ajan perinteisen hoitamisen iltapäivään ja iltaan lauantaina 26.10. Paikka on Kehomielikeskus Helsingin Tapanilassa\, osoitteessa Päivöläntie 31. Kokoonnumme yhden jälkeen iltapäivällä\, ja ohjelma alkaa klo 14. Luvassa on yhteinen meditaatio\, kaksi keskustelevaa luentoa pohjoisen parantajaperinteestä ja sen jälkeen kolme ohjattua rumpumatkaa. Tilaisuus loppuu seitsemän aikaan tai pian sen jälkeen. Näissä hommissa aika ei aina mene ihan justiinsa. \nOhjaajina toimivat yhdistyksemme opettajat Päivi Hirvonen\, Kaisu Sutinen ja Ilkka Westman\, jotka ovat kolmen vuoden ajan opiskelleet rajahaltioina toimimista Johannes Setälä -instituutin pääopettajan\, Susanna Lendieran\, johdolla. Kolmessa vuodessa ei tule mestariksi\, mutta mukaan on tarttunut oppia\, jota haluamme jakaa kiinnostuneille. \nTämä tilaisuus on suunnattu vain yhdistyksemme jäsenille ja heidän ystävilleen. Jäsenille se on ilmainen\, ystäville maksaa 20 euroa. Ilmoittautuminen Kaisu Sutiselle sähköpostilla kaisu.sutinen (at) gmail.com tai tekstarilla 040-5850623. \nTilaisuuden aikana yhdistys tarjoaa teetä ja pientä naposteltavaa ja pidämme taukoja\, joiden aikana voit nauttia omia eväitä. Kehomielikeskuksessa on jääkaappi ja mikro eväiden säilyttämistä ja lämmittämistä varten. \nJa sitten vielä sananen sinulle\, joka ajattelet\, ettet voi osallistua\, koska et omista rumpua. Voit. Tässä ei ole kyse yhteisrummutuksesta vaan ohjatusta matkasta\, johon voit suhtautua aivan kuten reikiin: aloittelijan mielellä\, ilman mitään tarvikkeita tai työkaluja. \nTilaisuus on päihteetön. \nLämpimästi tervetuloa!
URL:https://usui-reiki-ryoho.fi/tapahtuma/kekrin-ajan-perinteisen-hoitamisen-ilta/
LOCATION:Tapanilan Terveys\, KehoMielikeskus\, Päivöläntie 31\, Helsinki\, 00730\, Suomi
CATEGORIES:Jäsentilaisuus,Tapahtumat
END:VEVENT
BEGIN:VEVENT
DTSTART;TZID=Europe/Helsinki:20241109T100000
DTEND;TZID=Europe/Helsinki:20241110T170000
DTSTAMP:20260422T150603
CREATED:20240728T172219Z
LAST-MODIFIED:20240728T172219Z
UID:2013-1731146400-1731258000@usui-reiki-ryoho.fi
SUMMARY:Reiki 2-kurssi / Anni Siitonen
DESCRIPTION:Lisätietoja kurssin sisällöstä: Reiki-2 \nIlmoittautuminen Annille.
URL:https://usui-reiki-ryoho.fi/tapahtuma/reiki-2-anni-marras-2024/
LOCATION:PPPilates-tila\, Allotriankuja 6\, Helsinki\, 00580\, Suomi
CATEGORIES:Kurssit,Reiki2
ORGANIZER;CN="Anni Siitonen":MAILTO:anni.siitonen1@gmail.com
END:VEVENT
END:VCALENDAR