BEGIN:VCALENDAR
VERSION:2.0
PRODID:-//Usui Reiki Ryoho ry - ECPv6.15.20//NONSGML v1.0//EN
CALSCALE:GREGORIAN
METHOD:PUBLISH
X-ORIGINAL-URL:https://usui-reiki-ryoho.fi
X-WR-CALDESC:Tapahtumat Usui Reiki Ryoho ry
REFRESH-INTERVAL;VALUE=DURATION:PT1H
X-Robots-Tag:noindex
X-PUBLISHED-TTL:PT1H
BEGIN:VTIMEZONE
TZID:Europe/Helsinki
BEGIN:DAYLIGHT
TZOFFSETFROM:+0200
TZOFFSETTO:+0300
TZNAME:EEST
DTSTART:20220327T010000
END:DAYLIGHT
BEGIN:STANDARD
TZOFFSETFROM:+0300
TZOFFSETTO:+0200
TZNAME:EET
DTSTART:20221030T010000
END:STANDARD
BEGIN:DAYLIGHT
TZOFFSETFROM:+0200
TZOFFSETTO:+0300
TZNAME:EEST
DTSTART:20230326T010000
END:DAYLIGHT
BEGIN:STANDARD
TZOFFSETFROM:+0300
TZOFFSETTO:+0200
TZNAME:EET
DTSTART:20231029T010000
END:STANDARD
BEGIN:DAYLIGHT
TZOFFSETFROM:+0200
TZOFFSETTO:+0300
TZNAME:EEST
DTSTART:20240331T010000
END:DAYLIGHT
BEGIN:STANDARD
TZOFFSETFROM:+0300
TZOFFSETTO:+0200
TZNAME:EET
DTSTART:20241027T010000
END:STANDARD
BEGIN:DAYLIGHT
TZOFFSETFROM:+0200
TZOFFSETTO:+0300
TZNAME:EEST
DTSTART:20250330T010000
END:DAYLIGHT
BEGIN:STANDARD
TZOFFSETFROM:+0300
TZOFFSETTO:+0200
TZNAME:EET
DTSTART:20251026T010000
END:STANDARD
END:VTIMEZONE
BEGIN:VEVENT
DTSTART;TZID=Europe/Helsinki:20230811T173000
DTEND;TZID=Europe/Helsinki:20230811T220000
DTSTAMP:20260423T013904
CREATED:20230512T162150Z
LAST-MODIFIED:20230527T182347Z
UID:1589-1691775000-1691791200@usui-reiki-ryoho.fi
SUMMARY:Saaristoristeily Helsingin edustalla - Ilmoittautumisaikaa pidennetty 15.6 asti
DESCRIPTION:Usui Reiki Ryoho ry kutsuu sinut jatkamaan pitkää kuumaa kesää risteilyllä. Lähdemme liikkeelle Helsingin kauppatorilta SunLines yhtiön M/S Emmalla.  Tule mukaan syömään\, discoilemaan menneiden vuosikymmenten hittien rytmiin ja nauttimaan kesäisestä seurasta sekä Helsingin saariston merellisistä maisemista. \nKokoonnumme klo 17:30 Emma laivalle nauttimaan kesäisiä virvokkeita. Emma laiva löytyy kauppatorin laiturilta 19\, presidentinlinnan edestä\, Allas Sea Poolin ja Suomenlinnan lautan välistä. Emma lähtee liikkeelle klo 18:00 ja palaa noin klo 22:00. Tämän jälkeen suunnistamme halukkaiden kanssa yhdessä kohti kaupungin yöllisiä huvituksia. \nRisteilylipun hinta ryhmälipulla 22 €/hlö . Runsaan ja herkulliseen buffet-menuun hinta on 28 €/hlö. Ellet ruokaile\, voit varata vain ristelylipun. \nBuffet menu: \n\nCaesar naturel (L\,G) keittiömme krutongeilla ja kastikkeella\nYrttijuusto-Cantaloupe melonisalaattia ja ango-chilivinaigretti (L\,G)\nChimichurri kananpojanrintaa (M\,G) ja mausteinen tuoretomaattisalsa\nChipotle perunasalaattia (M\,G)\nPatonki (L) ja yrttilevite (L\,G)\n\nYhdistykselle on varattu ryhmäpaikat ravintolaan alakannelle\, ja yhdistyksen ryhmävarauslinkki on voimassa 15.6.2023 saakka. Sen jälkeen voit toki tulla risteilylle yleisen ilmoittautumisen kautta\, jos mukaan mahtuu\, mutta ryhmän pöytäpaikka ei enää ole mahdollinen. \nVaraamisen  ja maksamisen osalta tämä on omatoimimatka. Ostathan lippusi viimeistään 15.6.2023 tämän ryhmävarauslinkin kautta: ReikiRisteily  \n\nValitse Risteilylippu ja Buffet (jos ruokailet)\nMerkitse mahdolliset juomatilaukset ja erikoisruokavaliot\nLisää Kampanja- tai alennuskoodi 10%: eijalaakso\nLisää yhteystietosi ja maksutietosi\nMaksa pankkipalvelussa\n\nTähän tapahtumaan ei tarvitse olla yhdistyksen jäsen\, vaan voit kutsua mukaan myös ystäväsi. \nTervetuloa mukaan!
URL:https://usui-reiki-ryoho.fi/tapahtuma/saaristoristeily2023/
LOCATION:Kauppatori\, Helsinki\, Eteläranta\, Helsinki\, 00170\, Suomi
END:VEVENT
BEGIN:VEVENT
DTSTART;TZID=Europe/Helsinki:20230818T180000
DTEND;TZID=Europe/Helsinki:20230818T210000
DTSTAMP:20260423T013904
CREATED:20230813T095801Z
LAST-MODIFIED:20230813T095801Z
UID:1716-1692381600-1692392400@usui-reiki-ryoho.fi
SUMMARY:Reiki-ilta
DESCRIPTION:Reiki-ilta on kaikille avoin tilaisuus. Se on tarkoitettu hoitojen tekemiseen sekä seurusteluun. Jokainen saa halutessaan reikihoidon ja kaikki ovat tervetulleita osallistumaan myös hoitamiseen. Etukäteen ei tarvitse osata mitään\, avoin mieli riittää. \nKokoontumispaikka on n. 400 m Sörnäisten metroasemalta. \nOviraha 5 e\, tarjolla teetä ja pientä purtavaa. \nVoit tulla ja lähteä oman aikataulusi mukaan. \nKunnioitathan kaikkien terveyttä ja jäät kotiin\, mikäli tunnet olevasi sairas. \n\nEija\, puh. 045 857 3400\n\n\nKaisu\, puh. 040 585 0623
URL:https://usui-reiki-ryoho.fi/tapahtuma/reiki-ilta-hki-elo-2023/
LOCATION:PPPilates-tila\, Allotriankuja 6\, Helsinki\, 00580\, Suomi
CATEGORIES:Reiki-ilta / Reiki-iltapäivä
END:VEVENT
BEGIN:VEVENT
DTSTART;TZID=Europe/Helsinki:20230826T100000
DTEND;TZID=Europe/Helsinki:20230827T170000
DTSTAMP:20260423T013904
CREATED:20230421T152604Z
LAST-MODIFIED:20230421T152604Z
UID:1556-1693044000-1693155600@usui-reiki-ryoho.fi
SUMMARY:Reiki 1 -kurssi / Kari Paulus
DESCRIPTION:Ilmoittautuminen Karille puh. 050 341 3852. \nLisätietoja kurssin sisällöstä: Reiki-1
URL:https://usui-reiki-ryoho.fi/tapahtuma/reiki-1-kari-elo-2023/
LOCATION:Sturenkadun hoitola\, Sturenkatu 43\, Helsinki\, 00740\, Suomi
CATEGORIES:Kurssit,Reiki1
END:VEVENT
BEGIN:VEVENT
DTSTART;TZID=Europe/Helsinki:20230826T100000
DTEND;TZID=Europe/Helsinki:20230827T170000
DTSTAMP:20260423T013904
CREATED:20230514T155334Z
LAST-MODIFIED:20230514T155348Z
UID:1599-1693044000-1693155600@usui-reiki-ryoho.fi
SUMMARY:Reiki 1 -kurssi / Raija Yli-Jyrä
DESCRIPTION:Ilmoittautuminen viimeistään 13.8.2023 Keski-Pohjanmaan kansanopiston kurssisivun kautta. \nKurssin sisällöstä: Reiki-1
URL:https://usui-reiki-ryoho.fi/tapahtuma/reiki-1-raija-elo_2023/
LOCATION:Keski-Pohjanmaan kansanopisto\, Opistontie 1\, Kälviä\, 68300\, Suomi
CATEGORIES:Kurssit,Reiki1
END:VEVENT
BEGIN:VEVENT
DTSTART;TZID=Europe/Helsinki:20230909T100000
DTEND;TZID=Europe/Helsinki:20230910T170000
DTSTAMP:20260423T013904
CREATED:20230717T130344Z
LAST-MODIFIED:20230717T130551Z
UID:1706-1694253600-1694365200@usui-reiki-ryoho.fi
SUMMARY:Reiki 1 -kurssi / Anneli Linkoheimo ja Camilla Cederstrand
DESCRIPTION:Lisätietoja kurssista nettisivulta www.reikikurssi.com \nIlmoittautuminen kurssille tällä lomakkeella
URL:https://usui-reiki-ryoho.fi/tapahtuma/reiki-1-porvoo-anneli-ja-camilla-syys-2023/
LOCATION:Soltorp Eco Lodge\, joogasali\, Porvoo\, Humlebergintie 26\, Porvoo\, 06200\, Suomi
END:VEVENT
BEGIN:VEVENT
DTSTART;TZID=Europe/Helsinki:20230915T180000
DTEND;TZID=Europe/Helsinki:20230915T210000
DTSTAMP:20260423T013904
CREATED:20230813T100054Z
LAST-MODIFIED:20230813T100054Z
UID:1718-1694800800-1694811600@usui-reiki-ryoho.fi
SUMMARY:Reiki-ilta
DESCRIPTION:Reiki-ilta on kaikille avoin tilaisuus. Se on tarkoitettu hoitojen tekemiseen sekä seurusteluun. Jokainen saa halutessaan reikihoidon ja kaikki ovat tervetulleita osallistumaan myös hoitamiseen. Etukäteen ei tarvitse osata mitään\, avoin mieli riittää. \nKokoontumispaikka on n. 400 m Sörnäisten metroasemalta. \nOviraha 5 e\, tarjolla teetä ja pientä purtavaa. \nVoit tulla ja lähteä oman aikataulusi mukaan. \nKunnioitathan kaikkien terveyttä ja jäät kotiin\, mikäli tunnet olevasi sairas. \n\nEija\, puh. 045 857 3400\n\n\nKaisu\, puh. 040 585 0623
URL:https://usui-reiki-ryoho.fi/tapahtuma/reiki-ilta-syys-2023/
LOCATION:PPPilates-tila\, Allotriankuja 6\, Helsinki\, 00580\, Suomi
CATEGORIES:Reiki-ilta / Reiki-iltapäivä
END:VEVENT
BEGIN:VEVENT
DTSTART;TZID=Europe/Helsinki:20230916T100000
DTEND;TZID=Europe/Helsinki:20230917T170000
DTSTAMP:20260423T013904
CREATED:20230820T122453Z
LAST-MODIFIED:20230820T123053Z
UID:1737-1694858400-1694970000@usui-reiki-ryoho.fi
SUMMARY:Reiki 1 -kurssi / Leena Kuutti-Fager
DESCRIPTION:Ilmoittautuminen leena.kuutti@solania.fi tai 050 517 2729 \nLisätietoa kurssista: https://solania.fi/blogi/
URL:https://usui-reiki-ryoho.fi/tapahtuma/reiki-1-leena-syys-2023/
LOCATION:Hoitola Solania\, Kultasepänkatu 5 A\, Kerava\, 04250\, Suomi
CATEGORIES:Kurssit,Reiki1
ORGANIZER;CN="Leena Kuutti-Fager":MAILTO:leena.kuutti@solania.fi
END:VEVENT
BEGIN:VEVENT
DTSTART;TZID=Europe/Helsinki:20230930T100000
DTEND;TZID=Europe/Helsinki:20231001T170000
DTSTAMP:20260423T013904
CREATED:20230903T174448Z
LAST-MODIFIED:20230903T174448Z
UID:1751-1696068000-1696179600@usui-reiki-ryoho.fi
SUMMARY:Reiki 1 -kurssi / Eija Laakso
DESCRIPTION:Tietoa kurssin sisällöstä: Reiki 1 \nIlmoittautuminen eija@kiseki.fi tai puh 045 857 3400
URL:https://usui-reiki-ryoho.fi/tapahtuma/reiki-1-eija-syys-2023/
LOCATION:PPPilates-tila\, Allotriankuja 6\, Helsinki\, 00580\, Suomi
CATEGORIES:Kurssit,Reiki1
END:VEVENT
BEGIN:VEVENT
DTSTART;TZID=Europe/Helsinki:20231007T100000
DTEND;TZID=Europe/Helsinki:20231008T170000
DTSTAMP:20260423T013904
CREATED:20230424T195423Z
LAST-MODIFIED:20230424T195423Z
UID:1558-1696672800-1696784400@usui-reiki-ryoho.fi
SUMMARY:Reiki 2 -kurssi / Kari Paulus
DESCRIPTION:Ilmoittautuminen Karille puh. 050 341 3852 \nLisätietoja kurssin sisällöstä: Reiki-2
URL:https://usui-reiki-ryoho.fi/tapahtuma/reiki-2-kari-loka-2023/
LOCATION:Sturenkadun hoitola\, Sturenkatu 43\, Helsinki\, 00740\, Suomi
CATEGORIES:Kurssit,Reiki2
END:VEVENT
BEGIN:VEVENT
DTSTART;TZID=Europe/Helsinki:20231013T180000
DTEND;TZID=Europe/Helsinki:20231013T210000
DTSTAMP:20260423T013904
CREATED:20230813T100241Z
LAST-MODIFIED:20230813T100241Z
UID:1721-1697220000-1697230800@usui-reiki-ryoho.fi
SUMMARY:Reiki-ilta
DESCRIPTION:Reiki-ilta on kaikille avoin tilaisuus. Se on tarkoitettu hoitojen tekemiseen sekä seurusteluun. Jokainen saa halutessaan reikihoidon ja kaikki ovat tervetulleita osallistumaan myös hoitamiseen. Etukäteen ei tarvitse osata mitään\, avoin mieli riittää. \nKokoontumispaikka on n. 400 m Sörnäisten metroasemalta. \nOviraha 5 e\, tarjolla teetä ja pientä purtavaa. \nVoit tulla ja lähteä oman aikataulusi mukaan. \nKunnioitathan kaikkien terveyttä ja jäät kotiin\, mikäli tunnet olevasi sairas. \n\nEija\, puh. 045 857 3400\n\n\nKaisu\, puh. 040 585 0623
URL:https://usui-reiki-ryoho.fi/tapahtuma/reiki-ilta-loka-2023/
LOCATION:PPPilates-tila\, Allotriankuja 6\, Helsinki\, 00580\, Suomi
CATEGORIES:Reiki-ilta / Reiki-iltapäivä
END:VEVENT
BEGIN:VEVENT
DTSTART;TZID=Europe/Helsinki:20231014T100000
DTEND;TZID=Europe/Helsinki:20231015T170000
DTSTAMP:20260423T013904
CREATED:20230617T152746Z
LAST-MODIFIED:20230815T142009Z
UID:1687-1697277600-1697389200@usui-reiki-ryoho.fi
SUMMARY:Reiki 1 -kurssi / Kari Paulus
DESCRIPTION:Ilmoittautuminen Karille puh. 050 341 3852. \nLisätietoja kurssin sisällöstä: Reiki-1
URL:https://usui-reiki-ryoho.fi/tapahtuma/reiki-1-kari-loka-2023/
LOCATION:Sturenkadun hoitola\, Sturenkatu 43\, Helsinki\, 00740\, Suomi
CATEGORIES:Kurssit,Reiki1
END:VEVENT
BEGIN:VEVENT
DTSTART;TZID=Europe/Helsinki:20231021T100000
DTEND;TZID=Europe/Helsinki:20231022T170000
DTSTAMP:20260423T013904
CREATED:20230617T153805Z
LAST-MODIFIED:20230815T142138Z
UID:1696-1697882400-1697994000@usui-reiki-ryoho.fi
SUMMARY:Japanilaiset reikitekniikat eli alkuperäiset Usuin reikin hoitotavat -viikonloppukurssi / Kari Paulus
DESCRIPTION:Tämä kurssi on tarkoitettu Reiki 2 -kurssin käyneille. \nIlmoittautuminen Karille puh. 050 341 3852. \nLisätietoja kurssin sisällöstä: Japanilaiset reikitekniikat
URL:https://usui-reiki-ryoho.fi/tapahtuma/reikitekniikat-kari-loka-2023/
LOCATION:Sturenkadun hoitola\, Sturenkatu 43\, Helsinki\, 00740\, Suomi
CATEGORIES:Hoitotavat,Kurssit
END:VEVENT
BEGIN:VEVENT
DTSTART;TZID=Europe/Helsinki:20231028T120000
DTEND;TZID=Europe/Helsinki:20231028T170000
DTSTAMP:20260423T013904
CREATED:20230903T190144Z
LAST-MODIFIED:20230920T181558Z
UID:1762-1698494400-1698512400@usui-reiki-ryoho.fi
SUMMARY:Henkireikiä -tapahtuma
DESCRIPTION:Tervetuloa kaikille avoimeen hyvinvointipäivään – Henkireikiä tapahtumaan \nTarjolla mm. \n\nLyhyitä tietoiskuja reikistä ja japanilaisesta perinteestä\nYhteinen pieni meditaatio\nReikihoitoja\nVanhojen ja uusien tuttujen tapaamista\, kuulumisten vaihtoa\, jutustelua\, yhdessäoloa\nPikkupurtavaa\, teetä ja kahvia\nOta omat eväät\, jos haluat syödä hieman tukevammin\n\nTilaisuuteen on vapaa pääsy eikä sinne tarvitse erikseen ilmoittautua. \nIlmoittaudu mukaan tekemään reikihoitoja\, viestittele Eijalle numeroon 045 857 3400. \n 
URL:https://usui-reiki-ryoho.fi/tapahtuma/henkireikia-loka-2023/
LOCATION:Tapanilan Terveys\, KehoMielikeskus\, Päivöläntie 31\, Helsinki\, 00730\, Suomi
CATEGORIES:Tapahtumat
END:VEVENT
BEGIN:VEVENT
DTSTART;TZID=Europe/Helsinki:20231110T180000
DTEND;TZID=Europe/Helsinki:20231110T210000
DTSTAMP:20260423T013904
CREATED:20230813T100410Z
LAST-MODIFIED:20230813T100410Z
UID:1724-1699639200-1699650000@usui-reiki-ryoho.fi
SUMMARY:Reiki-ilta
DESCRIPTION:Reiki-ilta on kaikille avoin tilaisuus. Se on tarkoitettu hoitojen tekemiseen sekä seurusteluun. Jokainen saa halutessaan reikihoidon ja kaikki ovat tervetulleita osallistumaan myös hoitamiseen. Etukäteen ei tarvitse osata mitään\, avoin mieli riittää. \nKokoontumispaikka on n. 400 m Sörnäisten metroasemalta. \nOviraha 5 e\, tarjolla teetä ja pientä purtavaa. \nVoit tulla ja lähteä oman aikataulusi mukaan. \nKunnioitathan kaikkien terveyttä ja jäät kotiin\, mikäli tunnet olevasi sairas. \n\nEija\, puh. 045 857 3400\n\n\nKaisu\, puh. 040 585 0623
URL:https://usui-reiki-ryoho.fi/tapahtuma/reiki-ilta-marras-2023/
LOCATION:PPPilates-tila\, Allotriankuja 6\, Helsinki\, 00580\, Suomi
CATEGORIES:Reiki-ilta / Reiki-iltapäivä
END:VEVENT
BEGIN:VEVENT
DTSTART;TZID=Europe/Helsinki:20231118T100000
DTEND;TZID=Europe/Helsinki:20231119T170000
DTSTAMP:20260423T013904
CREATED:20230617T153458Z
LAST-MODIFIED:20230815T142043Z
UID:1693-1700301600-1700413200@usui-reiki-ryoho.fi
SUMMARY:Reiki 2 -kurssi / Kari Paulus
DESCRIPTION:Ilmoittautuminen Karille puh. 050 341 3852 \nLisätietoja kurssin sisällöstä: Reiki-2
URL:https://usui-reiki-ryoho.fi/tapahtuma/reiki-2-kari-marras-2023/
LOCATION:Sturenkadun hoitola\, Sturenkatu 43\, Helsinki\, 00740\, Suomi
CATEGORIES:Kurssit,Reiki2
END:VEVENT
BEGIN:VEVENT
DTSTART;TZID=Europe/Helsinki:20231125T080000
DTEND;TZID=Europe/Helsinki:20231126T170000
DTSTAMP:20260423T013904
CREATED:20230820T122938Z
LAST-MODIFIED:20230820T122938Z
UID:1742-1700899200-1701018000@usui-reiki-ryoho.fi
SUMMARY:Reiki 2 -kurssi / Leena Kuutti-Fager
DESCRIPTION:Ilmoittautuminen leena.kuutti@solania.fi tai 050 517 2729 \nLisätietoa kurssista: https://solania.fi/blogi/
URL:https://usui-reiki-ryoho.fi/tapahtuma/reiki-2-leena-marras-2023/
LOCATION:Hoitola Solania\, Kultasepänkatu 5 A\, Kerava\, 04250\, Suomi
CATEGORIES:Kurssit,Reiki2
ORGANIZER;CN="Leena Kuutti-Fager":MAILTO:leena.kuutti@solania.fi
END:VEVENT
BEGIN:VEVENT
DTSTART;TZID=Europe/Helsinki:20231215T180000
DTEND;TZID=Europe/Helsinki:20231215T210000
DTSTAMP:20260423T013904
CREATED:20230813T100551Z
LAST-MODIFIED:20230813T100551Z
UID:1727-1702663200-1702674000@usui-reiki-ryoho.fi
SUMMARY:Reiki-ilta
DESCRIPTION:Reiki-ilta on kaikille avoin tilaisuus. Se on tarkoitettu hoitojen tekemiseen sekä seurusteluun. Jokainen saa halutessaan reikihoidon ja kaikki ovat tervetulleita osallistumaan myös hoitamiseen. Etukäteen ei tarvitse osata mitään\, avoin mieli riittää. \nKokoontumispaikka on n. 400 m Sörnäisten metroasemalta. \nOviraha 5 e\, tarjolla teetä ja pientä purtavaa. \nVoit tulla ja lähteä oman aikataulusi mukaan. \nKunnioitathan kaikkien terveyttä ja jäät kotiin\, mikäli tunnet olevasi sairas. \n\nEija\, puh. 045 857 3400\n\n\nKaisu\, puh. 040 585 0623
URL:https://usui-reiki-ryoho.fi/tapahtuma/reiki-ilta-joulu-2023/
LOCATION:PPPilates-tila\, Allotriankuja 6\, Helsinki\, 00580\, Suomi
CATEGORIES:Reiki-ilta / Reiki-iltapäivä
END:VEVENT
BEGIN:VEVENT
DTSTART;TZID=Europe/Helsinki:20231216T100000
DTEND;TZID=Europe/Helsinki:20231216T163000
DTSTAMP:20260423T013904
CREATED:20230617T154157Z
LAST-MODIFIED:20230815T142307Z
UID:1699-1702720800-1702744200@usui-reiki-ryoho.fi
SUMMARY:Japanilaiset reikitekniikat -hoitopäivä
DESCRIPTION:Jos olet käynyt Japanilaiset reikitekniikat -viikonloppukurssin\, voit tulla tähän päivään harjoittelemaan tekniikoita. \nIlmoittautuminen: Kari Paulus\, tekstiviestillä puh. 050 341 3852
URL:https://usui-reiki-ryoho.fi/tapahtuma/reikitekniikat-hoitopaiva-loka-2023/
LOCATION:Sturenkadun hoitola\, Sturenkatu 43\, Helsinki\, 00740\, Suomi
CATEGORIES:Tekniikkapäivä
END:VEVENT
BEGIN:VEVENT
DTSTART;TZID=Europe/Helsinki:20240112T180000
DTEND;TZID=Europe/Helsinki:20240112T210000
DTSTAMP:20260423T013904
CREATED:20231228T130627Z
LAST-MODIFIED:20231228T130627Z
UID:1836-1705082400-1705093200@usui-reiki-ryoho.fi
SUMMARY:Reiki-ilta
DESCRIPTION:Reiki-ilta on kaikille avoin tilaisuus. Se on tarkoitettu hoitojen tekemiseen sekä seurusteluun. Jokainen saa halutessaan reikihoidon ja kaikki ovat tervetulleita osallistumaan myös hoitamiseen. Etukäteen ei tarvitse osata mitään\, avoin mieli riittää. \nKokoontumispaikka on n. 400 m Sörnäisten metroasemalta. \nOviraha 5 e\, tarjolla teetä ja pientä purtavaa. \nVoit tulla ja lähteä oman aikataulusi mukaan. \nKunnioitathan kaikkien terveyttä ja jäät kotiin\, mikäli tunnet olevasi sairas. \n\nEija\, puh. 045 857 3400\n\n\nKaisu\, puh. 040 585 0623
URL:https://usui-reiki-ryoho.fi/tapahtuma/reiki-ilta-tammi-2024/
LOCATION:PPPilates-tila\, Allotriankuja 6\, Helsinki\, 00580\, Suomi
CATEGORIES:Reiki-ilta / Reiki-iltapäivä
END:VEVENT
BEGIN:VEVENT
DTSTART;TZID=Europe/Helsinki:20240113T100000
DTEND;TZID=Europe/Helsinki:20240114T170000
DTSTAMP:20260423T013904
CREATED:20230617T153039Z
LAST-MODIFIED:20230815T142625Z
UID:1689-1705140000-1705251600@usui-reiki-ryoho.fi
SUMMARY:Reiki 1 -kurssi / Kari Paulus
DESCRIPTION:Ilmoittautuminen Karille puh. 050 341 3852. \nLisätietoja kurssin sisällöstä: Reiki-1
URL:https://usui-reiki-ryoho.fi/tapahtuma/reiki-1-kari-tammi-2024/
LOCATION:Sturenkadun hoitola\, Sturenkatu 43\, Helsinki\, 00740\, Suomi
CATEGORIES:Kurssit,Reiki1
END:VEVENT
BEGIN:VEVENT
DTSTART;TZID=Europe/Helsinki:20240120T170000
DTEND;TZID=Europe/Helsinki:20240120T210000
DTSTAMP:20260423T013904
CREATED:20230903T190439Z
LAST-MODIFIED:20240109T184040Z
UID:1766-1705770000-1705784400@usui-reiki-ryoho.fi
SUMMARY:Boonenkai 2023/2024
DESCRIPTION:HUOM! Paikka vaihtunut  \nJätetään vanha vuosi taakse ja aloitetaan uusi vuosi uusin energioin. \nJuhlapaikka: Ravintola Zinnkeller\, Meritullinkatu 25\, Helsinki \nMenu: Löytyy ravintolan sivuilta \nHinta: Jokainen maksaa oman ruokansa. \nIlmoittautuminen Irinalle viimeistään keskiviikkona 17.1.2024 joko sähköpostilla ippebeksu50@gmail.com tai tekstarilla numeroon 044 599 2250. \nTervetuloa kaikki jäsenet ja jäsenten ystävät toivottamaan uusi vuosi tervetulleeksi!
URL:https://usui-reiki-ryoho.fi/tapahtuma/boonenkai-2024/
LOCATION:Ravintola Zinnkeller\, Meritullinkatu 25\, Helsinki\, 00170\, Suomi
CATEGORIES:Tapahtumat
END:VEVENT
BEGIN:VEVENT
DTSTART;TZID=Europe/Helsinki:20240203T100000
DTEND;TZID=Europe/Helsinki:20240204T170000
DTSTAMP:20260423T013904
CREATED:20231103T170704Z
LAST-MODIFIED:20231103T170704Z
UID:1799-1706954400-1707066000@usui-reiki-ryoho.fi
SUMMARY:Reiki 1-kurssi / Leena Kuutti-Fager
DESCRIPTION:Ilmoittautuminen leena.kuutti@solania.fi tai 050 517 2729 \nLisätietoa kurssista: https://solania.fi/blogi/
URL:https://usui-reiki-ryoho.fi/tapahtuma/reiki-1-leena-helmi-2024/
LOCATION:Hoitola Solania\, Kultasepänkatu 5 A\, Kerava\, 04250\, Suomi
CATEGORIES:Kurssit,Reiki1
ORGANIZER;CN="Leena Kuutti-Fager":MAILTO:leena.kuutti@solania.fi
END:VEVENT
BEGIN:VEVENT
DTSTART;TZID=Europe/Helsinki:20240210T100000
DTEND;TZID=Europe/Helsinki:20240211T170000
DTSTAMP:20260423T013904
CREATED:20231123T145757Z
LAST-MODIFIED:20231123T145757Z
UID:1804-1707559200-1707670800@usui-reiki-ryoho.fi
SUMMARY:Reiki 1 -kurssi / Eija Laakso
DESCRIPTION:Tietoa kurssin sisällöstä: Reiki 1 \nIlmoittautuminen eija@kiseki.fi tai puh 045 857 3400
URL:https://usui-reiki-ryoho.fi/tapahtuma/reiki-1-eija-helmi-2024/
LOCATION:Tapanilan Terveys\, KehoMielikeskus\, Päivöläntie 31\, Helsinki\, 00730\, Suomi
CATEGORIES:Kurssit,Reiki1
END:VEVENT
BEGIN:VEVENT
DTSTART;TZID=Europe/Helsinki:20240210T100000
DTEND;TZID=Europe/Helsinki:20240211T170000
DTSTAMP:20260423T013904
CREATED:20231228T132706Z
LAST-MODIFIED:20231228T132706Z
UID:1855-1707559200-1707670800@usui-reiki-ryoho.fi
SUMMARY:Reiki 2 -kurssi / Kari Paulus
DESCRIPTION:Ilmoittautuminen Karille puh. 050 341 3852 \nLisätietoja kurssin sisällöstä: Reiki-2
URL:https://usui-reiki-ryoho.fi/tapahtuma/reiki-2-kari-helmi-2024/
LOCATION:Sturenkadun hoitola\, Sturenkatu 43\, Helsinki\, 00740\, Suomi
CATEGORIES:Kurssit,Reiki2
END:VEVENT
BEGIN:VEVENT
DTSTART;TZID=Europe/Helsinki:20240216T180000
DTEND;TZID=Europe/Helsinki:20240216T210000
DTSTAMP:20260423T013904
CREATED:20231228T130837Z
LAST-MODIFIED:20231228T130932Z
UID:1838-1708106400-1708117200@usui-reiki-ryoho.fi
SUMMARY:Reiki-ilta
DESCRIPTION:Reiki-ilta on kaikille avoin tilaisuus. Se on tarkoitettu hoitojen tekemiseen sekä seurusteluun. Jokainen saa halutessaan reikihoidon ja kaikki ovat tervetulleita osallistumaan myös hoitamiseen. Etukäteen ei tarvitse osata mitään\, avoin mieli riittää. \nKokoontumispaikka on n. 400 m Sörnäisten metroasemalta. \nOviraha 5 e\, tarjolla teetä ja pientä purtavaa. \nVoit tulla ja lähteä oman aikataulusi mukaan. \nKunnioitathan kaikkien terveyttä ja jäät kotiin\, mikäli tunnet olevasi sairas. \n\nEija\, puh. 045 857 3400\n\n\nKaisu\, puh. 040 585 0623
URL:https://usui-reiki-ryoho.fi/tapahtuma/reiki-ilta-helmi-2024/
LOCATION:PPPilates-tila\, Allotriankuja 6\, Helsinki\, 00580\, Suomi
CATEGORIES:Reiki-ilta / Reiki-iltapäivä
END:VEVENT
BEGIN:VEVENT
DTSTART;TZID=Europe/Helsinki:20240224T100000
DTEND;TZID=Europe/Helsinki:20240224T163000
DTSTAMP:20260423T013904
CREATED:20231228T133634Z
LAST-MODIFIED:20231228T133634Z
UID:1862-1708768800-1708792200@usui-reiki-ryoho.fi
SUMMARY:Japanilaiset reikitekniikat -hoitopäivä
DESCRIPTION:Jos olet käynyt Japanilaiset reikitekniikat -viikonloppukurssin\, voit tulla tähän päivään harjoittelemaan tekniikoita. \nIlmoittautuminen: Kari Paulus\, tekstiviestillä puh. 050 341 3852
URL:https://usui-reiki-ryoho.fi/tapahtuma/reikitekniikat-hoitopaiva-helmi-2024/
LOCATION:Sturenkadun hoitola\, Sturenkatu 43\, Helsinki\, 00740\, Suomi
CATEGORIES:Tekniikkapäivä
END:VEVENT
BEGIN:VEVENT
DTSTART;TZID=Europe/Helsinki:20240302T100000
DTEND;TZID=Europe/Helsinki:20240303T170000
DTSTAMP:20260423T013904
CREATED:20231228T133234Z
LAST-MODIFIED:20231228T133234Z
UID:1860-1709373600-1709485200@usui-reiki-ryoho.fi
SUMMARY:Japanilaiset reikitekniikat eli alkuperäiset Usuin reikin hoitotavat -viikonloppukurssi / Kari Paulus
DESCRIPTION:Tämä kurssi on tarkoitettu Reiki 2 -kurssin käyneille. \nIlmoittautuminen Karille puh. 050 341 3852. \nLisätietoja kurssin sisällöstä: Japanilaiset reikitekniikat
URL:https://usui-reiki-ryoho.fi/tapahtuma/reikitekniikat-kari-maalis-2024/
LOCATION:Sturenkadun hoitola\, Sturenkatu 43\, Helsinki\, 00740\, Suomi
CATEGORIES:Hoitotavat,Kurssit
END:VEVENT
BEGIN:VEVENT
DTSTART;TZID=Europe/Helsinki:20240315T180000
DTEND;TZID=Europe/Helsinki:20240315T210000
DTSTAMP:20260423T013904
CREATED:20231228T131120Z
LAST-MODIFIED:20231228T131120Z
UID:1841-1710525600-1710536400@usui-reiki-ryoho.fi
SUMMARY:Reiki-ilta
DESCRIPTION:Reiki-ilta on kaikille avoin tilaisuus. Se on tarkoitettu hoitojen tekemiseen sekä seurusteluun. Jokainen saa halutessaan reikihoidon ja kaikki ovat tervetulleita osallistumaan myös hoitamiseen. Etukäteen ei tarvitse osata mitään\, avoin mieli riittää. \nKokoontumispaikka on n. 400 m Sörnäisten metroasemalta. \nOviraha 5 e\, tarjolla teetä ja pientä purtavaa. \nVoit tulla ja lähteä oman aikataulusi mukaan. \nKunnioitathan kaikkien terveyttä ja jäät kotiin\, mikäli tunnet olevasi sairas. \n\nEija\, puh. 045 857 3400\n\n\nKaisu\, puh. 040 585 0623
URL:https://usui-reiki-ryoho.fi/tapahtuma/reiki-ilta-maalis-2024/
LOCATION:PPPilates-tila\, Allotriankuja 6\, Helsinki\, 00580\, Suomi
CATEGORIES:Reiki-ilta / Reiki-iltapäivä
END:VEVENT
BEGIN:VEVENT
DTSTART;TZID=Europe/Helsinki:20240323T100000
DTEND;TZID=Europe/Helsinki:20240324T170000
DTSTAMP:20260423T013904
CREATED:20231228T132254Z
LAST-MODIFIED:20231228T132254Z
UID:1851-1711188000-1711299600@usui-reiki-ryoho.fi
SUMMARY:Reiki 1 -kurssi / Kari Paulus
DESCRIPTION:Ilmoittautuminen Karille puh. 050 341 3852. \nLisätietoja kurssin sisällöstä: Reiki-1
URL:https://usui-reiki-ryoho.fi/tapahtuma/reiki-1-kari-maalis-2024/
LOCATION:Sturenkadun hoitola\, Sturenkatu 43\, Helsinki\, 00740\, Suomi
CATEGORIES:Kurssit,Reiki1
END:VEVENT
BEGIN:VEVENT
DTSTART;TZID=Europe/Helsinki:20240406T120000
DTEND;TZID=Europe/Helsinki:20240406T170000
DTSTAMP:20260423T013904
CREATED:20240217T150949Z
LAST-MODIFIED:20240217T150949Z
UID:1909-1712404800-1712422800@usui-reiki-ryoho.fi
SUMMARY:Henkireikiä -hoitopäivä
DESCRIPTION:Tervetuloa kaikille avoimeen hyvinvointipäivään – Henkireikiä tapahtumaan \nTarjolla mm. \n\nReikihoitoja\nNoin klo 14 luento itämaisen ja länsimaisen lääketieteen eroista ja yhtäläisyyksistä. Luennoijana Ilkka Westman.\nVanhojen ja uusien tuttujen tapaamista\, kuulumisten vaihtoa\, jutustelua\, yhdessäoloa\nPikkupurtavaa\, teetä ja kahvia\nOta omat eväät\, jos haluat syödä hieman tukevammin\n\nTilaisuuteen on vapaa pääsy eikä sinne tarvitse erikseen ilmoittautua. \nIlmoittaudu mukaan tekemään reikihoitoja\, viestittele Eijalle numeroon 045 857 3400. Talkoolaiset paikalle jo klo 10.
URL:https://usui-reiki-ryoho.fi/tapahtuma/henkireikia-hoitopaiva-huhti-2024/
LOCATION:Tapanilan Terveys\, KehoMielikeskus\, Päivöläntie 31\, Helsinki\, 00730\, Suomi
CATEGORIES:Tapahtumat
END:VEVENT
END:VCALENDAR