BEGIN:VCALENDAR
VERSION:2.0
PRODID:-//Usui Reiki Ryoho ry - ECPv6.15.20//NONSGML v1.0//EN
CALSCALE:GREGORIAN
METHOD:PUBLISH
X-WR-CALNAME:Usui Reiki Ryoho ry
X-ORIGINAL-URL:https://usui-reiki-ryoho.fi
X-WR-CALDESC:Tapahtumat Usui Reiki Ryoho ry
REFRESH-INTERVAL;VALUE=DURATION:PT1H
X-Robots-Tag:noindex
X-PUBLISHED-TTL:PT1H
BEGIN:VTIMEZONE
TZID:Europe/Helsinki
BEGIN:DAYLIGHT
TZOFFSETFROM:+0200
TZOFFSETTO:+0300
TZNAME:EEST
DTSTART:20240331T010000
END:DAYLIGHT
BEGIN:STANDARD
TZOFFSETFROM:+0300
TZOFFSETTO:+0200
TZNAME:EET
DTSTART:20241027T010000
END:STANDARD
BEGIN:DAYLIGHT
TZOFFSETFROM:+0200
TZOFFSETTO:+0300
TZNAME:EEST
DTSTART:20250330T010000
END:DAYLIGHT
BEGIN:STANDARD
TZOFFSETFROM:+0300
TZOFFSETTO:+0200
TZNAME:EET
DTSTART:20251026T010000
END:STANDARD
BEGIN:DAYLIGHT
TZOFFSETFROM:+0200
TZOFFSETTO:+0300
TZNAME:EEST
DTSTART:20260329T010000
END:DAYLIGHT
BEGIN:STANDARD
TZOFFSETFROM:+0300
TZOFFSETTO:+0200
TZNAME:EET
DTSTART:20261025T010000
END:STANDARD
END:VTIMEZONE
BEGIN:VEVENT
DTSTART;TZID=Europe/Helsinki:20251108T120000
DTEND;TZID=Europe/Helsinki:20251108T163000
DTSTAMP:20260421T120809
CREATED:20251005T103708Z
LAST-MODIFIED:20251005T103708Z
UID:2273-1762603200-1762619400@usui-reiki-ryoho.fi
SUMMARY:Henkireikiä - reikipäivä
DESCRIPTION:Tervetuloa syksyn Henkireikiä päivään Tapanilan terveyteen. \nPäivässä on tarjolla mm. \n\nreikihoitoja\nlyhyitä tietoiskuja reikistä\nmeditaatiota\njutustelua tuttujen ja tuntemattomien kesken\npientä purtavaa\n\nVoit tulla oman aikataulusi mukaan ja viihtyä lyhyemmän tai pitemmän aikaa. \nTilaisuus on kaikille avoin ja maksuton. Ei ennakkoilmoittautumista.
URL:https://usui-reiki-ryoho.fi/tapahtuma/henkireikia-marras-2025/
LOCATION:Tapanilan Terveys\, KehoMielikeskus\, Päivöläntie 31\, Helsinki\, 00730\, Suomi
CATEGORIES:Tapahtumat
END:VEVENT
BEGIN:VEVENT
DTSTART;TZID=Europe/Helsinki:20251114T180000
DTEND;TZID=Europe/Helsinki:20251114T210000
DTSTAMP:20260421T120809
CREATED:20250612T141155Z
LAST-MODIFIED:20250612T165625Z
UID:2239-1763143200-1763154000@usui-reiki-ryoho.fi
SUMMARY:Reiki-ilta / Helsinki
DESCRIPTION:Reiki-ilta on kaikille avoin tilaisuus. Se on tarkoitettu hoitojen tekemiseen sekä seurusteluun. Jokainen saa halutessaan reikihoidon ja kaikki ovat tervetulleita osallistumaan myös hoitamiseen. Etukäteen ei tarvitse osata mitään\, avoin mieli riittää. \nKokoontumispaikka on n. 400 m Sörnäisten metroasemalta. \nOviraha 5 e\, tarjolla teetä ja pientä purtavaa. \nVoit tulla ja lähteä oman aikataulusi mukaan. \n\nEija\, puh. 050 584 1886\n\n\nKaisu\, puh. 040 585 0623\nIrina\, puh. 044 599 2250\nAnni\, puh. 045 315 9910
URL:https://usui-reiki-ryoho.fi/tapahtuma/reiki-ilta-helsinki-10/
LOCATION:PPPilates-tila\, Allotriankuja 6\, Helsinki\, 00580\, Suomi
CATEGORIES:Reiki-ilta / Reiki-iltapäivä
END:VEVENT
BEGIN:VEVENT
DTSTART;TZID=Europe/Helsinki:20251115T100000
DTEND;TZID=Europe/Helsinki:20251116T170000
DTSTAMP:20260421T120809
CREATED:20250610T165330Z
LAST-MODIFIED:20250610T165330Z
UID:2188-1763200800-1763312400@usui-reiki-ryoho.fi
SUMMARY:Japanilaiset reikitekniikat eli alkuperäiset Usuin reikin hoitotavat -viikonloppukurssi / Eija Laakso
DESCRIPTION:Tämä kurssi on tarkoitettu Reiki 2 -kurssin käyneille. \nLisätietoja kurssista Kisekin sivulta. \nIlmoittautuminen eija@kiseki.fi tai puh 050 584 1886
URL:https://usui-reiki-ryoho.fi/tapahtuma/japanilaiset-reikitekniikat-eija-marras-2025/
LOCATION:Galleria Viileä punainen\, Päivöläntie 20\, Helsinki\, 00730\, Finland
CATEGORIES:Hoitotavat,Kurssit
END:VEVENT
BEGIN:VEVENT
DTSTART;TZID=Europe/Helsinki:20251115T100000
DTEND;TZID=Europe/Helsinki:20251116T170000
DTSTAMP:20260421T120809
CREATED:20250610T174157Z
LAST-MODIFIED:20250610T183639Z
UID:2197-1763200800-1763312400@usui-reiki-ryoho.fi
SUMMARY:Reiki 1 -course in english / Anni Siitonen
DESCRIPTION:More information on the course: Reiki-1 in English \nRegistration to Anni. See contact info below.
URL:https://usui-reiki-ryoho.fi/tapahtuma/reiki-1-en-anni-marras-2025/
LOCATION:PPPilates-tila\, Allotriankuja 6\, Helsinki\, 00580\, Suomi
CATEGORIES:Kurssit,Reiki1
ORGANIZER;CN="Anni Siitonen":MAILTO:anni.siitonen1@gmail.com
END:VEVENT
BEGIN:VEVENT
DTSTART;TZID=Europe/Helsinki:20251115T100000
DTEND;TZID=Europe/Helsinki:20251116T170000
DTSTAMP:20260421T120809
CREATED:20250610T181542Z
LAST-MODIFIED:20250610T181542Z
UID:2213-1763200800-1763312400@usui-reiki-ryoho.fi
SUMMARY:Reiki 1 -kurssi / Kari Paulus
DESCRIPTION:Ilmoittautuminen Karille puh. 050 341 3852. \nLisätietoja kurssin sisällöstä: Reiki-1
URL:https://usui-reiki-ryoho.fi/tapahtuma/reiki-1-kari-marras-2025/
LOCATION:Sturenkadun hoitola\, Sturenkatu 43\, Helsinki\, 00740\, Suomi
CATEGORIES:Kurssit,Reiki1
END:VEVENT
BEGIN:VEVENT
DTSTART;TZID=Europe/Helsinki:20251122T090000
DTEND;TZID=Europe/Helsinki:20251123T160000
DTSTAMP:20260421T120809
CREATED:20250817T113000Z
LAST-MODIFIED:20250817T113000Z
UID:2269-1763802000-1763913600@usui-reiki-ryoho.fi
SUMMARY:Reiki 2 -kurssi / Raija Yli-Jyrä
DESCRIPTION:Ilmoittautuminen viimeistään 2.11.2025 Keski-Pohjanmaan kansanopiston kurssisivun kautta. \nKurssin sisällöstä: Reiki-2
URL:https://usui-reiki-ryoho.fi/tapahtuma/reiki-2-raija-11-2025/
LOCATION:Keski-Pohjanmaan kansanopisto\, Opistontie 1\, Kälviä\, 68300\, Suomi
CATEGORIES:Kurssit,Reiki2
END:VEVENT
BEGIN:VEVENT
DTSTART;TZID=Europe/Helsinki:20251122T100000
DTEND;TZID=Europe/Helsinki:20251123T170000
DTSTAMP:20260421T120809
CREATED:20250610T183503Z
LAST-MODIFIED:20250610T183503Z
UID:2225-1763805600-1763917200@usui-reiki-ryoho.fi
SUMMARY:Reiki 1 -kurssi / Kaisu Sutinen
DESCRIPTION:Lisätietoja kurssin sisällöstä: Reiki-1 \nIlmoittautuminen Kaisulle numeroon 040 585 0623.
URL:https://usui-reiki-ryoho.fi/tapahtuma/reiki-1-kaisu-marras-2025/
LOCATION:PPPilates-tila\, Allotriankuja 6\, Helsinki\, 00580\, Suomi
CATEGORIES:Kurssit,Reiki1
END:VEVENT
BEGIN:VEVENT
DTSTART;TZID=Europe/Helsinki:20251122T150000
DTEND;TZID=Europe/Helsinki:20251123T170000
DTSTAMP:20260421T120809
CREATED:20250615T175112Z
LAST-MODIFIED:20250615T175112Z
UID:2259-1763823600-1763917200@usui-reiki-ryoho.fi
SUMMARY:Reiki 2 -kurssi / Marko Tilles
DESCRIPTION:Kurssiajat:\nLauantaina klo 15-20\nSunnuntaina klo 10-17 \nKurssin sisältö: Reiki-2 \nIlmoittautuminen ja lisätiedot: Markolta\, yhteystiedot alla
URL:https://usui-reiki-ryoho.fi/tapahtuma/reiki-2-marko-11-2025/
LOCATION:Kodin tyyli -myymälä\, Naaranpajuntie 1\, Nummela\, 03100\, Suomi
CATEGORIES:Kurssit,Reiki2
ORGANIZER;CN="Marko Tilles":MAILTO:markotilles7@gmail.com
END:VEVENT
BEGIN:VEVENT
DTSTART;TZID=Europe/Helsinki:20251129T100000
DTEND;TZID=Europe/Helsinki:20251130T170000
DTSTAMP:20260421T120809
CREATED:20250610T180824Z
LAST-MODIFIED:20250612T134337Z
UID:2209-1764410400-1764522000@usui-reiki-ryoho.fi
SUMMARY:Reiki 1 -kurssi / Anni Siitonen
DESCRIPTION:Lisätietoja kurssin sisällöstä: Reiki-1 \nIlmoittautuminen Annille\, yhteystiedot alla.
URL:https://usui-reiki-ryoho.fi/tapahtuma/reiki-1-anni-marras-2025/
LOCATION:PPPilates-tila\, Allotriankuja 6\, Helsinki\, 00580\, Suomi
CATEGORIES:Kurssit,Reiki1
ORGANIZER;CN="Anni Siitonen":MAILTO:anni.siitonen1@gmail.com
END:VEVENT
END:VCALENDAR