BEGIN:VCALENDAR
VERSION:2.0
PRODID:-//Usui Reiki Ryoho ry - ECPv6.15.20//NONSGML v1.0//EN
CALSCALE:GREGORIAN
METHOD:PUBLISH
X-WR-CALNAME:Usui Reiki Ryoho ry
X-ORIGINAL-URL:https://usui-reiki-ryoho.fi
X-WR-CALDESC:Tapahtumat Usui Reiki Ryoho ry
REFRESH-INTERVAL;VALUE=DURATION:PT1H
X-Robots-Tag:noindex
X-PUBLISHED-TTL:PT1H
BEGIN:VTIMEZONE
TZID:Europe/Helsinki
BEGIN:DAYLIGHT
TZOFFSETFROM:+0200
TZOFFSETTO:+0300
TZNAME:EEST
DTSTART:20240331T010000
END:DAYLIGHT
BEGIN:STANDARD
TZOFFSETFROM:+0300
TZOFFSETTO:+0200
TZNAME:EET
DTSTART:20241027T010000
END:STANDARD
BEGIN:DAYLIGHT
TZOFFSETFROM:+0200
TZOFFSETTO:+0300
TZNAME:EEST
DTSTART:20250330T010000
END:DAYLIGHT
BEGIN:STANDARD
TZOFFSETFROM:+0300
TZOFFSETTO:+0200
TZNAME:EET
DTSTART:20251026T010000
END:STANDARD
BEGIN:DAYLIGHT
TZOFFSETFROM:+0200
TZOFFSETTO:+0300
TZNAME:EEST
DTSTART:20260329T010000
END:DAYLIGHT
BEGIN:STANDARD
TZOFFSETFROM:+0300
TZOFFSETTO:+0200
TZNAME:EET
DTSTART:20261025T010000
END:STANDARD
END:VTIMEZONE
BEGIN:VEVENT
DTSTART;TZID=Europe/Helsinki:20251004T100000
DTEND;TZID=Europe/Helsinki:20251005T170000
DTSTAMP:20260421T132310
CREATED:20250610T182250Z
LAST-MODIFIED:20250610T182250Z
UID:2219-1759572000-1759683600@usui-reiki-ryoho.fi
SUMMARY:Japanilaiset reikitekniikat eli alkuperäiset Usuin reikin hoitotavat -viikonloppukurssi / Kari Paulus
DESCRIPTION:Tämä kurssi on tarkoitettu Reiki 2 -kurssin käyneille. \nIlmoittautuminen Karille puh. 050 341 3852. \nLisätietoja kurssin sisällöstä: Japanilaiset reikitekniikat
URL:https://usui-reiki-ryoho.fi/tapahtuma/reikitekniikat-kari-loka-2025/
LOCATION:Sturenkadun hoitola\, Sturenkatu 43\, Helsinki\, 00740\, Suomi
CATEGORIES:Hoitotavat,Kurssit
END:VEVENT
BEGIN:VEVENT
DTSTART;TZID=Europe/Helsinki:20251010T180000
DTEND;TZID=Europe/Helsinki:20251010T210000
DTSTAMP:20260421T132310
CREATED:20250612T140651Z
LAST-MODIFIED:20250612T165719Z
UID:2235-1760119200-1760130000@usui-reiki-ryoho.fi
SUMMARY:Reiki-ilta / Helsinki
DESCRIPTION:Reiki-ilta on kaikille avoin tilaisuus. Se on tarkoitettu hoitojen tekemiseen sekä seurusteluun. Jokainen saa halutessaan reikihoidon ja kaikki ovat tervetulleita osallistumaan myös hoitamiseen. Etukäteen ei tarvitse osata mitään\, avoin mieli riittää. \nKokoontumispaikka on n. 400 m Sörnäisten metroasemalta. \nOviraha 5 e\, tarjolla teetä ja pientä purtavaa. \nVoit tulla ja lähteä oman aikataulusi mukaan. \n\nEija\, puh. 050 584 1886\n\n\nKaisu\, puh. 040 585 0623\nIrina\, puh. 044 599 2250\nAnni\, puh. 045 315 9910
URL:https://usui-reiki-ryoho.fi/tapahtuma/reiki-ilta-helsinki-9/
LOCATION:PPPilates-tila\, Allotriankuja 6\, Helsinki\, 00580\, Suomi
CATEGORIES:Reiki-ilta / Reiki-iltapäivä
END:VEVENT
BEGIN:VEVENT
DTSTART;TZID=Europe/Helsinki:20251011T100000
DTEND;TZID=Europe/Helsinki:20251011T163000
DTSTAMP:20260421T132310
CREATED:20250610T182632Z
LAST-MODIFIED:20250610T182632Z
UID:2221-1760176800-1760200200@usui-reiki-ryoho.fi
SUMMARY:Japanilaiset tekniikat harjoittelupäivä
DESCRIPTION:Jos olet käynyt Japanilaiset reikitekniikat -viikonloppukurssin\, voit tulla tähän päivään harjoittelemaan tekniikoita. \nIlmoittautuminen: Kari Paulus\, tekstiviestillä puh. 050 341 3852
URL:https://usui-reiki-ryoho.fi/tapahtuma/japanilaiset-tekniikat-harjoittelupaiva-loka-2025/
LOCATION:Sturenkadun hoitola\, Sturenkatu 43\, Helsinki\, 00740\, Suomi
CATEGORIES:Tekniikkapäivä
END:VEVENT
BEGIN:VEVENT
DTSTART;TZID=Europe/Helsinki:20251011T100000
DTEND;TZID=Europe/Helsinki:20251012T170000
DTSTAMP:20260421T132310
CREATED:20250610T165039Z
LAST-MODIFIED:20250610T165104Z
UID:2186-1760176800-1760288400@usui-reiki-ryoho.fi
SUMMARY:Reiki 2 -kurssi / Eija Laakso
DESCRIPTION:Tämä kurssi on tarkoitettu Reiki 1 -kurssin käyneille. \nLisätietoja kurssista Kisekin sivulta. \nIlmoittautuminen eija@kiseki.fi tai puh 050 584 1886
URL:https://usui-reiki-ryoho.fi/tapahtuma/reiki-2-eija-loka-2025/
LOCATION:Galleria Viileä punainen\, Päivöläntie 20\, Helsinki\, 00730\, Finland
CATEGORIES:Kurssit,Reiki2
END:VEVENT
BEGIN:VEVENT
DTSTART;TZID=Europe/Helsinki:20251011T150000
DTEND;TZID=Europe/Helsinki:20251012T170000
DTSTAMP:20260421T132310
CREATED:20250615T174739Z
LAST-MODIFIED:20250615T174739Z
UID:2257-1760194800-1760288400@usui-reiki-ryoho.fi
SUMMARY:Reiki 1 -kurssi / Marko Tilles
DESCRIPTION:Kurssin kellonajat: \nlauantai 11.10.2025 kello 15-20 \nsunnuntai 12.10.2025 kello 10-17 \n  \nKurssin sisältö: Reiki-1 \nIlmoittautuminen ja lisätiedot: Markolta\, yhteystiedot alla
URL:https://usui-reiki-ryoho.fi/tapahtuma/reiki-1-marko-10-2025/
LOCATION:Kodin tyyli -myymälä\, Naaranpajuntie 1\, Nummela\, 03100\, Suomi
CATEGORIES:Kurssit,Reiki1
ORGANIZER;CN="Marko Tilles":MAILTO:markotilles7@gmail.com
END:VEVENT
END:VCALENDAR