BEGIN:VCALENDAR
VERSION:2.0
PRODID:-//Usui Reiki Ryoho ry - ECPv6.15.20//NONSGML v1.0//EN
CALSCALE:GREGORIAN
METHOD:PUBLISH
X-ORIGINAL-URL:https://usui-reiki-ryoho.fi
X-WR-CALDESC:Tapahtumat Usui Reiki Ryoho ry
REFRESH-INTERVAL;VALUE=DURATION:PT1H
X-Robots-Tag:noindex
X-PUBLISHED-TTL:PT1H
BEGIN:VTIMEZONE
TZID:Europe/Helsinki
BEGIN:DAYLIGHT
TZOFFSETFROM:+0200
TZOFFSETTO:+0300
TZNAME:EEST
DTSTART:20240331T010000
END:DAYLIGHT
BEGIN:STANDARD
TZOFFSETFROM:+0300
TZOFFSETTO:+0200
TZNAME:EET
DTSTART:20241027T010000
END:STANDARD
BEGIN:DAYLIGHT
TZOFFSETFROM:+0200
TZOFFSETTO:+0300
TZNAME:EEST
DTSTART:20250330T010000
END:DAYLIGHT
BEGIN:STANDARD
TZOFFSETFROM:+0300
TZOFFSETTO:+0200
TZNAME:EET
DTSTART:20251026T010000
END:STANDARD
BEGIN:DAYLIGHT
TZOFFSETFROM:+0200
TZOFFSETTO:+0300
TZNAME:EEST
DTSTART:20260329T010000
END:DAYLIGHT
BEGIN:STANDARD
TZOFFSETFROM:+0300
TZOFFSETTO:+0200
TZNAME:EET
DTSTART:20261025T010000
END:STANDARD
END:VTIMEZONE
BEGIN:VEVENT
DTSTART;TZID=Europe/Helsinki:20250405T100000
DTEND;TZID=Europe/Helsinki:20250406T170000
DTSTAMP:20260421T213239
CREATED:20250127T190950Z
LAST-MODIFIED:20250127T190950Z
UID:2128-1743847200-1743958800@usui-reiki-ryoho.fi
SUMMARY:Reiki 2 -kurssi / Leena Kuutti-Fager
DESCRIPTION:Ilmoittautuminen leena.kuutti@solania.fi tai 050 517 2729 \nLisätietoa kurssista: https://solania.fi/blogi/
URL:https://usui-reiki-ryoho.fi/tapahtuma/reiki-2-leena-huhti-2025/
LOCATION:Hoitola Solania\, Kultasepänkatu 5 A\, Kerava\, 04250\, Suomi
CATEGORIES:Kurssit,Reiki2
ORGANIZER;CN="Leena Kuutti-Fager":MAILTO:leena.kuutti@solania.fi
END:VEVENT
BEGIN:VEVENT
DTSTART;TZID=Europe/Helsinki:20250408T180000
DTEND;TZID=Europe/Helsinki:20250411T210000
DTSTAMP:20260421T213239
CREATED:20250216T152122Z
LAST-MODIFIED:20250216T152122Z
UID:2133-1744135200-1744405200@usui-reiki-ryoho.fi
SUMMARY:Reiki 1 -kurssi\, iltakurssi / Marko Tilles
DESCRIPTION:HUOM! Iltakurssi\, 4 peräkkäistä iltaa 8. – 11.4. kello 18 – 21 \nKurssin sisältö: Reiki-1 \nIlmoittautuminen ja lisätiedot: Markolta\, yhteystiedot alla
URL:https://usui-reiki-ryoho.fi/tapahtuma/reiki-1-ilta-marko-04-2025/
LOCATION:Kodin tyyli -myymälä\, Naaranpajuntie 1\, Nummela\, 03100\, Suomi
CATEGORIES:Kurssit,Reiki1
ORGANIZER;CN="Marko Tilles":MAILTO:markotilles7@gmail.com
END:VEVENT
BEGIN:VEVENT
DTSTART;TZID=Europe/Helsinki:20250411T180000
DTEND;TZID=Europe/Helsinki:20250411T210000
DTSTAMP:20260421T213239
CREATED:20241219T150801Z
LAST-MODIFIED:20241219T150801Z
UID:2090-1744394400-1744405200@usui-reiki-ryoho.fi
SUMMARY:Reiki-ilta / Helsinki
DESCRIPTION:Reiki-ilta on kaikille avoin tilaisuus. Se on tarkoitettu hoitojen tekemiseen sekä seurusteluun. Jokainen saa halutessaan reikihoidon ja kaikki ovat tervetulleita osallistumaan myös hoitamiseen. Etukäteen ei tarvitse osata mitään\, avoin mieli riittää. \nKokoontumispaikka on n. 400 m Sörnäisten metroasemalta. \nOviraha 5 e\, tarjolla teetä ja pientä purtavaa. \nVoit tulla ja lähteä oman aikataulusi mukaan. \nKunnioitathan kaikkien terveyttä ja jäät kotiin\, mikäli tunnet olevasi sairas. \n\nEija\, puh. 045 857 3400\n\n\nKaisu\, puh. 040 585 0623\nIrina\, puh. 044 599 2250
URL:https://usui-reiki-ryoho.fi/tapahtuma/reiki-ilta-helsinki-4/
LOCATION:PPPilates-tila\, Allotriankuja 6\, Helsinki\, 00580\, Suomi
CATEGORIES:Reiki-ilta / Reiki-iltapäivä
END:VEVENT
BEGIN:VEVENT
DTSTART;TZID=Europe/Helsinki:20250412T100000
DTEND;TZID=Europe/Helsinki:20250413T170000
DTSTAMP:20260421T213239
CREATED:20241219T141937Z
LAST-MODIFIED:20241219T141937Z
UID:2064-1744452000-1744563600@usui-reiki-ryoho.fi
SUMMARY:Reiki 1 -kurssi / Kari Paulus
DESCRIPTION:Ilmoittautuminen Karille puh. 050 341 3852. \nLisätietoja kurssin sisällöstä: Reiki-1
URL:https://usui-reiki-ryoho.fi/tapahtuma/reiki-1-kari-huhti-2025/
LOCATION:Sturenkadun hoitola\, Sturenkatu 43\, Helsinki\, 00740\, Suomi
CATEGORIES:Kurssit,Reiki1
END:VEVENT
BEGIN:VEVENT
DTSTART;TZID=Europe/Helsinki:20250412T100000
DTEND;TZID=Europe/Helsinki:20250413T170000
DTSTAMP:20260421T213239
CREATED:20250106T182717Z
LAST-MODIFIED:20250106T182930Z
UID:2100-1744452000-1744563600@usui-reiki-ryoho.fi
SUMMARY:Reiki 2 -kurssi / Eija Laakso
DESCRIPTION:Tietoja kurssin sisällöstä: Reiki-2 \nIlmoittautuminen eija@kiseki.fi tai puh 045 857 3400
URL:https://usui-reiki-ryoho.fi/tapahtuma/reiki-2-eija-huhti-2025/
LOCATION:Tapanilan Terveys\, KehoMielikeskus\, Päivöläntie 31\, Helsinki\, 00730\, Suomi
CATEGORIES:Kurssit,Reiki2
END:VEVENT
BEGIN:VEVENT
DTSTART;TZID=Europe/Helsinki:20250426T100000
DTEND;TZID=Europe/Helsinki:20250427T170000
DTSTAMP:20260421T213239
CREATED:20241106T143856Z
LAST-MODIFIED:20241106T143918Z
UID:2046-1745661600-1745773200@usui-reiki-ryoho.fi
SUMMARY:Reiki 1 -kurssi / Raija Yli-Jyrä
DESCRIPTION:Ilmoittautuminen viimeistään 6.4.2025 Keski-Pohjanmaan kansanopiston kurssisivun kautta. \nKurssin sisällöstä: Reiki-1
URL:https://usui-reiki-ryoho.fi/tapahtuma/reiki-1-raija-huhti-2025/
LOCATION:Keski-Pohjanmaan kansanopisto\, Opistontie 1\, Kälviä\, 68300\, Suomi
CATEGORIES:Kurssit,Reiki1
END:VEVENT
BEGIN:VEVENT
DTSTART;TZID=Europe/Helsinki:20250426T100000
DTEND;TZID=Europe/Helsinki:20250427T170000
DTSTAMP:20260421T213239
CREATED:20250112T084852Z
LAST-MODIFIED:20250112T084852Z
UID:2120-1745661600-1745773200@usui-reiki-ryoho.fi
SUMMARY:Reiki 1 -kurssi / Anni Siitonen
DESCRIPTION:Lisätietoja kurssin sisällöstä: Reiki-1 \nIlmoittautuminen Annille.
URL:https://usui-reiki-ryoho.fi/tapahtuma/reiki-1-anni-huhti-2025/
LOCATION:PPPilates-tila\, Allotriankuja 6\, Helsinki\, 00580\, Suomi
CATEGORIES:Kurssit,Reiki1
ORGANIZER;CN="Anni Siitonen":MAILTO:anni.siitonen1@gmail.com
END:VEVENT
END:VCALENDAR