BEGIN:VCALENDAR
VERSION:2.0
PRODID:-//Usui Reiki Ryoho ry - ECPv6.15.20//NONSGML v1.0//EN
CALSCALE:GREGORIAN
METHOD:PUBLISH
X-WR-CALNAME:Usui Reiki Ryoho ry
X-ORIGINAL-URL:https://usui-reiki-ryoho.fi
X-WR-CALDESC:Tapahtumat Usui Reiki Ryoho ry
REFRESH-INTERVAL;VALUE=DURATION:PT1H
X-Robots-Tag:noindex
X-PUBLISHED-TTL:PT1H
BEGIN:VTIMEZONE
TZID:Europe/Helsinki
BEGIN:DAYLIGHT
TZOFFSETFROM:+0200
TZOFFSETTO:+0300
TZNAME:EEST
DTSTART:20240331T010000
END:DAYLIGHT
BEGIN:STANDARD
TZOFFSETFROM:+0300
TZOFFSETTO:+0200
TZNAME:EET
DTSTART:20241027T010000
END:STANDARD
BEGIN:DAYLIGHT
TZOFFSETFROM:+0200
TZOFFSETTO:+0300
TZNAME:EEST
DTSTART:20250330T010000
END:DAYLIGHT
BEGIN:STANDARD
TZOFFSETFROM:+0300
TZOFFSETTO:+0200
TZNAME:EET
DTSTART:20251026T010000
END:STANDARD
BEGIN:DAYLIGHT
TZOFFSETFROM:+0200
TZOFFSETTO:+0300
TZNAME:EEST
DTSTART:20260329T010000
END:DAYLIGHT
BEGIN:STANDARD
TZOFFSETFROM:+0300
TZOFFSETTO:+0200
TZNAME:EET
DTSTART:20261025T010000
END:STANDARD
END:VTIMEZONE
BEGIN:VEVENT
DTSTART;TZID=Europe/Helsinki:20250301T100000
DTEND;TZID=Europe/Helsinki:20250302T170000
DTSTAMP:20260421T224456
CREATED:20241219T142743Z
LAST-MODIFIED:20241219T142743Z
UID:2070-1740823200-1740934800@usui-reiki-ryoho.fi
SUMMARY:Japanilaiset reikitekniikat eli alkuperäiset Usuin reikin hoitotavat -viikonloppukurssi / Kari Paulus
DESCRIPTION:Tämä kurssi on tarkoitettu Reiki 2 -kurssin käyneille. \nIlmoittautuminen Karille puh. 050 341 3852. \nLisätietoja kurssin sisällöstä: Japanilaiset reikitekniikat
URL:https://usui-reiki-ryoho.fi/tapahtuma/reikitekniikat-kari-maalis-2025/
LOCATION:Sturenkadun hoitola\, Sturenkatu 43\, Helsinki\, 00740\, Suomi
CATEGORIES:Hoitotavat,Kurssit
END:VEVENT
BEGIN:VEVENT
DTSTART;TZID=Europe/Helsinki:20250308T100000
DTEND;TZID=Europe/Helsinki:20250308T163000
DTSTAMP:20260421T224456
CREATED:20241219T143042Z
LAST-MODIFIED:20241219T143730Z
UID:2072-1741428000-1741451400@usui-reiki-ryoho.fi
SUMMARY:Japanilaiset reikitekniikat\, harjoittelupäivä
DESCRIPTION:Jos olet käynyt Japanilaiset reikitekniikat -viikonloppukurssin\, voit tulla tähän päivään harjoittelemaan tekniikoita. \nIlmoittautuminen: Kari Paulus\, tekstiviestillä puh. 050 341 3852 \nLisätietoja Karin omalta nettisivulta \nMaksu käteisellä paikanpäällä
URL:https://usui-reiki-ryoho.fi/tapahtuma/reikitekniikat-harjoittelupaiva-maalis-2025/
LOCATION:Sturenkadun hoitola\, Sturenkatu 43\, Helsinki\, 00740\, Suomi
CATEGORIES:Tekniikkapäivä
END:VEVENT
BEGIN:VEVENT
DTSTART;TZID=Europe/Helsinki:20250311T180000
DTEND;TZID=Europe/Helsinki:20250314T210000
DTSTAMP:20260421T224456
CREATED:20250216T151859Z
LAST-MODIFIED:20250216T151859Z
UID:2131-1741716000-1741986000@usui-reiki-ryoho.fi
SUMMARY:Reiki 1 -kurssi\, iltakurssi / Marko Tilles
DESCRIPTION:HUOM! Iltakurssi\, 4 peräkkäistä iltaa 11.-14.3. kello 18 – 21 \nKurssin sisältö: Reiki-1 \nIlmoittautuminen ja lisätiedot: Markolta\, yhteystiedot alla
URL:https://usui-reiki-ryoho.fi/tapahtuma/reiki-1-ilta-marko-03-2025/
LOCATION:Kodin tyyli -myymälä\, Naaranpajuntie 1\, Nummela\, 03100\, Suomi
CATEGORIES:Kurssit,Reiki1
ORGANIZER;CN="Marko Tilles":MAILTO:markotilles7@gmail.com
END:VEVENT
BEGIN:VEVENT
DTSTART;TZID=Europe/Helsinki:20250314T180000
DTEND;TZID=Europe/Helsinki:20250314T210000
DTSTAMP:20260421T224456
CREATED:20241219T150700Z
LAST-MODIFIED:20241219T150700Z
UID:2088-1741975200-1741986000@usui-reiki-ryoho.fi
SUMMARY:Reiki-ilta / Helsinki
DESCRIPTION:Reiki-ilta on kaikille avoin tilaisuus. Se on tarkoitettu hoitojen tekemiseen sekä seurusteluun. Jokainen saa halutessaan reikihoidon ja kaikki ovat tervetulleita osallistumaan myös hoitamiseen. Etukäteen ei tarvitse osata mitään\, avoin mieli riittää. \nKokoontumispaikka on n. 400 m Sörnäisten metroasemalta. \nOviraha 5 e\, tarjolla teetä ja pientä purtavaa. \nVoit tulla ja lähteä oman aikataulusi mukaan. \nKunnioitathan kaikkien terveyttä ja jäät kotiin\, mikäli tunnet olevasi sairas. \n\nEija\, puh. 045 857 3400\n\n\nKaisu\, puh. 040 585 0623\nIrina\, puh. 044 599 2250
URL:https://usui-reiki-ryoho.fi/tapahtuma/reiki-ilta-helsinki-3/
LOCATION:PPPilates-tila\, Allotriankuja 6\, Helsinki\, 00580\, Suomi
CATEGORIES:Reiki-ilta / Reiki-iltapäivä
END:VEVENT
BEGIN:VEVENT
DTSTART;TZID=Europe/Helsinki:20250315T100000
DTEND;TZID=Europe/Helsinki:20250316T170000
DTSTAMP:20260421T224456
CREATED:20250219T163957Z
LAST-MODIFIED:20250219T163957Z
UID:2139-1742032800-1742144400@usui-reiki-ryoho.fi
SUMMARY:Reiki 1 -kurssi / Anne Ceesay
DESCRIPTION:Kurssin sisältö: Reiki-1\nIlmoittautuminen ja lisätiedot: Annelle
URL:https://usui-reiki-ryoho.fi/tapahtuma/reiki-1-anne-03-2025/
LOCATION:Studio Valkyria\, Vaajakoskentie 127\, Jyväskylä\, 40800\, Finland
CATEGORIES:Kurssit,Reiki1
ORGANIZER;CN="Anne Ceesay":MAILTO:ceesay.anne@gmail.com
END:VEVENT
BEGIN:VEVENT
DTSTART;TZID=Europe/Helsinki:20250322T100000
DTEND;TZID=Europe/Helsinki:20250323T170000
DTSTAMP:20260421T224456
CREATED:20250112T084116Z
LAST-MODIFIED:20250112T084151Z
UID:2113-1742637600-1742749200@usui-reiki-ryoho.fi
SUMMARY:Reiki 2 -kurssi / Anni Siitonen
DESCRIPTION:Lisätietoja kurssin sisällöstä: Reiki-2 \nIlmoittautuminen Annille.
URL:https://usui-reiki-ryoho.fi/tapahtuma/reiki-2-anni-maalis-2025/
LOCATION:PPPilates-tila\, Allotriankuja 6\, Helsinki\, 00580\, Suomi
CATEGORIES:Kurssit,Reiki2
ORGANIZER;CN="Anni Siitonen":MAILTO:anni.siitonen1@gmail.com
END:VEVENT
BEGIN:VEVENT
DTSTART;TZID=Europe/Helsinki:20250329T100000
DTEND;TZID=Europe/Helsinki:20250330T170000
DTSTAMP:20260421T224456
CREATED:20241219T142220Z
LAST-MODIFIED:20241219T142220Z
UID:2066-1743242400-1743354000@usui-reiki-ryoho.fi
SUMMARY:Reiki 2 -kurssi / Kari Paulus
DESCRIPTION:Ilmoittautuminen Karille puh. 050 341 3852 \nLisätietoja kurssin sisällöstä: Reiki-2
URL:https://usui-reiki-ryoho.fi/tapahtuma/reiki-2-kari-maalis-2025/
LOCATION:Sturenkadun hoitola\, Sturenkatu 43\, Helsinki\, 00740\, Suomi
CATEGORIES:Kurssit,Reiki2
END:VEVENT
BEGIN:VEVENT
DTSTART;TZID=Europe/Helsinki:20250329T150000
DTEND;TZID=Europe/Helsinki:20250330T170000
DTSTAMP:20260421T224456
CREATED:20250324T201555Z
LAST-MODIFIED:20250324T205029Z
UID:2154-1743260400-1743354000@usui-reiki-ryoho.fi
SUMMARY:Japanilaiset reikitekniikat eli alkuperäiset Usuin reikin hoitotavat -kurssi / Marko Tilles
DESCRIPTION:HUOM! Kurssin kellonajat:\nLauantaina kello 15-20\nSunnuntaina kello 10-17 \nKurssin sisältö: Japanilaiset hoitotavat \nIlmoittautuminen ja lisätiedot: Markolta\, yhteystiedot alla
URL:https://usui-reiki-ryoho.fi/tapahtuma/japanilaiset-hoitotavat-marko-03-2025/
LOCATION:Kodin tyyli -myymälä\, Naaranpajuntie 1\, Nummela\, 03100\, Suomi
CATEGORIES:Hoitotavat,Kurssit
ORGANIZER;CN="Marko Tilles":MAILTO:markotilles7@gmail.com
END:VEVENT
END:VCALENDAR