BEGIN:VCALENDAR
VERSION:2.0
PRODID:-//Usui Reiki Ryoho ry - ECPv6.15.20//NONSGML v1.0//EN
CALSCALE:GREGORIAN
METHOD:PUBLISH
X-ORIGINAL-URL:https://usui-reiki-ryoho.fi
X-WR-CALDESC:Tapahtumat Usui Reiki Ryoho ry
REFRESH-INTERVAL;VALUE=DURATION:PT1H
X-Robots-Tag:noindex
X-PUBLISHED-TTL:PT1H
BEGIN:VTIMEZONE
TZID:Europe/Helsinki
BEGIN:DAYLIGHT
TZOFFSETFROM:+0200
TZOFFSETTO:+0300
TZNAME:EEST
DTSTART:20230326T010000
END:DAYLIGHT
BEGIN:STANDARD
TZOFFSETFROM:+0300
TZOFFSETTO:+0200
TZNAME:EET
DTSTART:20231029T010000
END:STANDARD
BEGIN:DAYLIGHT
TZOFFSETFROM:+0200
TZOFFSETTO:+0300
TZNAME:EEST
DTSTART:20240331T010000
END:DAYLIGHT
BEGIN:STANDARD
TZOFFSETFROM:+0300
TZOFFSETTO:+0200
TZNAME:EET
DTSTART:20241027T010000
END:STANDARD
BEGIN:DAYLIGHT
TZOFFSETFROM:+0200
TZOFFSETTO:+0300
TZNAME:EEST
DTSTART:20250330T010000
END:DAYLIGHT
BEGIN:STANDARD
TZOFFSETFROM:+0300
TZOFFSETTO:+0200
TZNAME:EET
DTSTART:20251026T010000
END:STANDARD
END:VTIMEZONE
BEGIN:VEVENT
DTSTART;TZID=Europe/Helsinki:20241109T100000
DTEND;TZID=Europe/Helsinki:20241110T170000
DTSTAMP:20260420T194808
CREATED:20240728T172219Z
LAST-MODIFIED:20240728T172219Z
UID:2013-1731146400-1731258000@usui-reiki-ryoho.fi
SUMMARY:Reiki 2-kurssi / Anni Siitonen
DESCRIPTION:Lisätietoja kurssin sisällöstä: Reiki-2 \nIlmoittautuminen Annille.
URL:https://usui-reiki-ryoho.fi/tapahtuma/reiki-2-anni-marras-2024/
LOCATION:PPPilates-tila\, Allotriankuja 6\, Helsinki\, 00580\, Suomi
CATEGORIES:Kurssit,Reiki2
ORGANIZER;CN="Anni Siitonen":MAILTO:anni.siitonen1@gmail.com
END:VEVENT
BEGIN:VEVENT
DTSTART;TZID=Europe/Helsinki:20241116T150000
DTEND;TZID=Europe/Helsinki:20241117T170000
DTSTAMP:20260420T194808
CREATED:20241009T081803Z
LAST-MODIFIED:20241009T081803Z
UID:2033-1731769200-1731862800@usui-reiki-ryoho.fi
SUMMARY:Reiki 1 -kurssi / Marko Tilles
DESCRIPTION:Kurssin kellonajat: \nlauantai 16.11. kello 15-20 \nsunnuntai 17.11. kello 10-17 \n  \nKurssin sisältö: Reiki-1 \nIlmoittautuminen ja lisätiedot: Markolta\, yhteystiedot alla
URL:https://usui-reiki-ryoho.fi/tapahtuma/reiki-1-marko-marras-2024/
LOCATION:Kodin tyyli -myymälä\, Naaranpajuntie 1\, Nummela\, 03100\, Suomi
CATEGORIES:Kurssit,Reiki1
ORGANIZER;CN="Marko Tilles":MAILTO:markotilles7@gmail.com
END:VEVENT
BEGIN:VEVENT
DTSTART;TZID=Europe/Helsinki:20241122T180000
DTEND;TZID=Europe/Helsinki:20241122T210000
DTSTAMP:20260420T194808
CREATED:20240620T125821Z
LAST-MODIFIED:20240620T125821Z
UID:1981-1732298400-1732309200@usui-reiki-ryoho.fi
SUMMARY:Reiki-ilta
DESCRIPTION:Reiki-ilta on kaikille avoin tilaisuus. Se on tarkoitettu hoitojen tekemiseen sekä seurusteluun. Jokainen saa halutessaan reikihoidon ja kaikki ovat tervetulleita osallistumaan myös hoitamiseen. Etukäteen ei tarvitse osata mitään\, avoin mieli riittää. \nKokoontumispaikka on n. 400 m Sörnäisten metroasemalta. \nOviraha 5 e\, tarjolla teetä ja pientä purtavaa. \nVoit tulla ja lähteä oman aikataulusi mukaan. \nKunnioitathan kaikkien terveyttä ja jäät kotiin\, mikäli tunnet olevasi sairas. \n\nEija\, puh. 045 857 3400\n\n\nKaisu\, puh. 040 585 0623\nIrina\, puh. 044 599 2250
URL:https://usui-reiki-ryoho.fi/tapahtuma/reiki-ilta-marras-2024/
LOCATION:PPPilates-tila\, Allotriankuja 6\, Helsinki\, 00580\, Suomi
CATEGORIES:Reiki-ilta / Reiki-iltapäivä
END:VEVENT
BEGIN:VEVENT
DTSTART;TZID=Europe/Helsinki:20241123T100000
DTEND;TZID=Europe/Helsinki:20241124T170000
DTSTAMP:20260420T194808
CREATED:20240612T171328Z
LAST-MODIFIED:20240612T171328Z
UID:1963-1732356000-1732467600@usui-reiki-ryoho.fi
SUMMARY:Reiki 2 -kurssi / Kari Paulus
DESCRIPTION:Ilmoittautuminen Karille puh. 050 341 3852 \nLisätietoja kurssin sisällöstä: Reiki-2
URL:https://usui-reiki-ryoho.fi/tapahtuma/reiki-2-kari-marras-2024/
LOCATION:Sturenkadun hoitola\, Sturenkatu 43\, Helsinki\, 00740\, Suomi
CATEGORIES:Kurssit,Reiki2
END:VEVENT
BEGIN:VEVENT
DTSTART;TZID=Europe/Helsinki:20241123T100000
DTEND;TZID=Europe/Helsinki:20241124T170000
DTSTAMP:20260420T194808
CREATED:20240703T153517Z
LAST-MODIFIED:20240916T173624Z
UID:1990-1732356000-1732467600@usui-reiki-ryoho.fi
SUMMARY:Reiki 1 -kurssi / Leena Kuutti-Fager
DESCRIPTION:Ilmoittautuminen leena.kuutti@solania.fi tai 050 517 2729 \nLisätietoa kurssista: https://solania.fi/blogi/
URL:https://usui-reiki-ryoho.fi/tapahtuma/reiki-1-leena-loka-2024/
LOCATION:Hoitola Solania\, Kultasepänkatu 5 A\, Kerava\, 04250\, Suomi
CATEGORIES:Kurssit,Reiki1
ORGANIZER;CN="Leena Kuutti-Fager":MAILTO:leena.kuutti@solania.fi
END:VEVENT
END:VCALENDAR